BEGIN:VCALENDAR
VERSION:2.0
PRODID:-//Wandelstadt Esslingen - ECPv6.15.20//NONSGML v1.0//EN
CALSCALE:GREGORIAN
METHOD:PUBLISH
X-WR-CALNAME:Wandelstadt Esslingen
X-ORIGINAL-URL:https://wandelstadt-esslingen.de
X-WR-CALDESC:Veranstaltungen für Wandelstadt Esslingen
REFRESH-INTERVAL;VALUE=DURATION:PT1H
X-Robots-Tag:noindex
X-PUBLISHED-TTL:PT1H
BEGIN:VTIMEZONE
TZID:Europe/Berlin
BEGIN:DAYLIGHT
TZOFFSETFROM:+0100
TZOFFSETTO:+0200
TZNAME:CEST
DTSTART:20250330T010000
END:DAYLIGHT
BEGIN:STANDARD
TZOFFSETFROM:+0200
TZOFFSETTO:+0100
TZNAME:CET
DTSTART:20251026T010000
END:STANDARD
BEGIN:DAYLIGHT
TZOFFSETFROM:+0100
TZOFFSETTO:+0200
TZNAME:CEST
DTSTART:20260329T010000
END:DAYLIGHT
BEGIN:STANDARD
TZOFFSETFROM:+0200
TZOFFSETTO:+0100
TZNAME:CET
DTSTART:20261025T010000
END:STANDARD
BEGIN:DAYLIGHT
TZOFFSETFROM:+0100
TZOFFSETTO:+0200
TZNAME:CEST
DTSTART:20270328T010000
END:DAYLIGHT
BEGIN:STANDARD
TZOFFSETFROM:+0200
TZOFFSETTO:+0100
TZNAME:CET
DTSTART:20271031T010000
END:STANDARD
END:VTIMEZONE
BEGIN:VEVENT
DTSTART;TZID=Europe/Berlin:20260313T143000
DTEND;TZID=Europe/Berlin:20260313T170000
DTSTAMP:20260421T122141
CREATED:20260224T162734Z
LAST-MODIFIED:20260224T162734Z
UID:8299-1773412200-1773421200@wandelstadt-esslingen.de
SUMMARY:„ In Liebe\, Eure Hilde“
DESCRIPTION:Kinofilm (2024) Berlin 1942. Hilde ist verliebt – in Hans. In Ihrer Leidenschaﬅ füreinander blenden sie den Krieg und die Gefahr aus und sind einfach zwei junge Menschen\, die am Anfang ihres Lebens stehen. Hilde bewundert den Mut ihres Geliebten\, der in Widerstandskreisen aktiv ist. Sie selbst ist zunächst ängstlich\, beteiligt sich aber zunehmend mutiger an den Aktionen einer Gruppe\, die später als „Rote Kapelle“ bekannt wird. Es wird der schönste Sommer ihres Lebens. Doch am Ende des Sommers werden alle verhaﬅet. Hilde\, im achten Monat schwanger\, bringt im Gefängnis ihren Sohn zur Welt und findet zu einer inneren Stärke\, die niemand von ihr erwartet hätte. Sie wird zum Tode verurteilt und 1943 in Berlin-Plötzensee hingerichtet. 14:30 Uhr Gespräche mit OMAS GEGEN RECHTS bei Kaﬀee und Kuchen 15:30 Uhr Einführung zum Film im Kinosaal durch Gudrun Greth\, ehrenamtliche Mitarbeiterin Gedenkstätte Hotel Silber Stuttgart 16 Uhr Beginn des Filmes
URL:https://wandelstadt-esslingen.de/event/in-liebe-eure-hilde/
LOCATION:Kommunales Kino\, Maille 4-9\, Esslingen\, 73728\, Deutschland
END:VEVENT
END:VCALENDAR