BEGIN:VCALENDAR
VERSION:2.0
PRODID:-//Wandelstadt Esslingen - ECPv6.15.20//NONSGML v1.0//EN
CALSCALE:GREGORIAN
METHOD:PUBLISH
X-WR-CALNAME:Wandelstadt Esslingen
X-ORIGINAL-URL:https://wandelstadt-esslingen.de
X-WR-CALDESC:Veranstaltungen für Wandelstadt Esslingen
REFRESH-INTERVAL;VALUE=DURATION:PT1H
X-Robots-Tag:noindex
X-PUBLISHED-TTL:PT1H
BEGIN:VTIMEZONE
TZID:Europe/Berlin
BEGIN:DAYLIGHT
TZOFFSETFROM:+0100
TZOFFSETTO:+0200
TZNAME:CEST
DTSTART:20240331T010000
END:DAYLIGHT
BEGIN:STANDARD
TZOFFSETFROM:+0200
TZOFFSETTO:+0100
TZNAME:CET
DTSTART:20241027T010000
END:STANDARD
BEGIN:DAYLIGHT
TZOFFSETFROM:+0100
TZOFFSETTO:+0200
TZNAME:CEST
DTSTART:20250330T010000
END:DAYLIGHT
BEGIN:STANDARD
TZOFFSETFROM:+0200
TZOFFSETTO:+0100
TZNAME:CET
DTSTART:20251026T010000
END:STANDARD
BEGIN:DAYLIGHT
TZOFFSETFROM:+0100
TZOFFSETTO:+0200
TZNAME:CEST
DTSTART:20260329T010000
END:DAYLIGHT
BEGIN:STANDARD
TZOFFSETFROM:+0200
TZOFFSETTO:+0100
TZNAME:CET
DTSTART:20261025T010000
END:STANDARD
END:VTIMEZONE
BEGIN:VEVENT
DTSTART;TZID=Europe/Berlin:20250628T200000
DTEND;TZID=Europe/Berlin:20250628T220000
DTSTAMP:20260422T032107
CREATED:20250613T101325Z
LAST-MODIFIED:20250614T094812Z
UID:5466-1751140800-1751148000@wandelstadt-esslingen.de
SUMMARY:Improvisationstheater "Beziehungskisten"
DESCRIPTION:Der StadtSeniorenRat präsentiert im Kunstdruck CentralTheater in Esslingen\, Rossmarkt 9\, einen unterhaltsamen Abend mit dem Improvisationstheater “Beziehungskisten”. Was sind wir Menschen doch für wunderbar komplizierte Beziehungswesen. Das Theaterstück mit Angelina Haug\, Alper Arici und Stefan Fisahn kramt mal eben tief in den Beziehungskisten des Lebens und gemeinsam mit dem Publikum werden Geschichten\, die zu Herzen gehen\, improvisiert. An diesem Abend widmen sich die Schauspieler auf humorvolle Weise dem Älterwerden und die Besucher sind die Regisseure. Karten gibt es unter Tel.: 0711 50420979 oder https://schauspiel-kunstdruck.de/central-theater/tickets/
URL:https://wandelstadt-esslingen.de/event/improtheater-beziehungskisten/
LOCATION:Kunstdruck Centraltheater\, Rossmarkt 9\, Esslingen
CATEGORIES:Kulturveranstaltung
ATTACH;FMTTYPE=image/jpeg:https://wandelstadt-esslingen.de/wp-content/uploads/2025/06/Flyer_Beziehungskisten-kachel.jpg
END:VEVENT
END:VCALENDAR