BEGIN:VCALENDAR
VERSION:2.0
PRODID:-//Wandelstadt Esslingen - ECPv6.15.20//NONSGML v1.0//EN
CALSCALE:GREGORIAN
METHOD:PUBLISH
X-WR-CALNAME:Wandelstadt Esslingen
X-ORIGINAL-URL:https://wandelstadt-esslingen.de
X-WR-CALDESC:Veranstaltungen für Wandelstadt Esslingen
REFRESH-INTERVAL;VALUE=DURATION:PT1H
X-Robots-Tag:noindex
X-PUBLISHED-TTL:PT1H
BEGIN:VTIMEZONE
TZID:Europe/Berlin
BEGIN:DAYLIGHT
TZOFFSETFROM:+0100
TZOFFSETTO:+0200
TZNAME:CEST
DTSTART:20240331T010000
END:DAYLIGHT
BEGIN:STANDARD
TZOFFSETFROM:+0200
TZOFFSETTO:+0100
TZNAME:CET
DTSTART:20241027T010000
END:STANDARD
BEGIN:DAYLIGHT
TZOFFSETFROM:+0100
TZOFFSETTO:+0200
TZNAME:CEST
DTSTART:20250330T010000
END:DAYLIGHT
BEGIN:STANDARD
TZOFFSETFROM:+0200
TZOFFSETTO:+0100
TZNAME:CET
DTSTART:20251026T010000
END:STANDARD
BEGIN:DAYLIGHT
TZOFFSETFROM:+0100
TZOFFSETTO:+0200
TZNAME:CEST
DTSTART:20260329T010000
END:DAYLIGHT
BEGIN:STANDARD
TZOFFSETFROM:+0200
TZOFFSETTO:+0100
TZNAME:CET
DTSTART:20261025T010000
END:STANDARD
END:VTIMEZONE
BEGIN:VEVENT
DTSTART;TZID=Europe/Berlin:20250510T183000
DTEND;TZID=Europe/Berlin:20250510T183000
DTSTAMP:20260421T231033
CREATED:20250424T171642Z
LAST-MODIFIED:20250424T171642Z
UID:10005361-1746901800-1746901800@wandelstadt-esslingen.de
SUMMARY:I am the River\, the River is Me
DESCRIPTION:Sa | 10.05.2025 | 18.30 Uhr\n88 Minuten | FSK 12 | OmU \n„Ich empfinde es als meine Aufgabe\, dafür zu sorgen\, dass ich das\, was mir gegeben wurde\, an andere weitergebe.“ (Ned Tapa) \n2024 | Niederlande\, Belgien | Regie\, Buch& Kamera: Petr Lom \nDer Mãori- Flusswächter nimmt die Filmemacher:innen\, internationale Wasserver- treter:innen und Aktivist:innen mit auf eine Kanufahrt auf dem Whanganui River in Aotearoa\, Neuseeland. Der 320 Kilometer lange Fluss ist der erste weltweit\, der als juristische Person anerkannt wurde. Seit über 150 Jahren kämpfen die Mãori leidenschaftlich für den Schutz ihrer heiligen Lebensader. Auf diesem spirituellen Wasserweg teilen die Reisenden Geschichten von Widerstandskraft\, Zerstörung und Heilung. Durch den Geist des Flusses als Begleiter und Erzähler reflektiert der Film über indigene Weisheit\, die Verbundenheit allen Lebens und die globale Bewegung für die Rechte der Natur. Ein Aufruf\, unsere Wertesysteme gegenüber der Natur und der Gemeinschaft zu überdenken – zum Wohle allen zukünftigen Lebens auf der Erde.
URL:https://wandelstadt-esslingen.de/event/i-am-the-river-the-river-is-me/2025-05-10/
LOCATION:Kommunales Kino\, Maille 4-9\, Esslingen\, 73728\, Deutschland
CATEGORIES:Kulturveranstaltung
END:VEVENT
END:VCALENDAR