BEGIN:VCALENDAR
VERSION:2.0
PRODID:-//Wandelstadt Esslingen - ECPv6.15.20//NONSGML v1.0//EN
CALSCALE:GREGORIAN
METHOD:PUBLISH
X-WR-CALNAME:Wandelstadt Esslingen
X-ORIGINAL-URL:https://wandelstadt-esslingen.de
X-WR-CALDESC:Veranstaltungen für Wandelstadt Esslingen
REFRESH-INTERVAL;VALUE=DURATION:PT1H
X-Robots-Tag:noindex
X-PUBLISHED-TTL:PT1H
BEGIN:VTIMEZONE
TZID:Europe/Berlin
BEGIN:DAYLIGHT
TZOFFSETFROM:+0100
TZOFFSETTO:+0200
TZNAME:CEST
DTSTART:20270328T010000
END:DAYLIGHT
BEGIN:STANDARD
TZOFFSETFROM:+0200
TZOFFSETTO:+0100
TZNAME:CET
DTSTART:20271031T010000
END:STANDARD
BEGIN:DAYLIGHT
TZOFFSETFROM:+0100
TZOFFSETTO:+0200
TZNAME:CEST
DTSTART:20280326T010000
END:DAYLIGHT
BEGIN:STANDARD
TZOFFSETFROM:+0200
TZOFFSETTO:+0100
TZNAME:CET
DTSTART:20281029T010000
END:STANDARD
BEGIN:DAYLIGHT
TZOFFSETFROM:+0100
TZOFFSETTO:+0200
TZNAME:CEST
DTSTART:20290325T010000
END:DAYLIGHT
BEGIN:STANDARD
TZOFFSETFROM:+0200
TZOFFSETTO:+0100
TZNAME:CET
DTSTART:20291028T010000
END:STANDARD
END:VTIMEZONE
BEGIN:VEVENT
DTSTART;TZID=Europe/Berlin:20280417T190000
DTEND;TZID=Europe/Berlin:20280417T210000
DTSTAMP:20260421T203404
CREATED:20250223T085849Z
LAST-MODIFIED:20250223T085849Z
UID:10004885-1839610800-1839618000@wandelstadt-esslingen.de
SUMMARY:Hefezopf am Abend – ein Nachbarschaftstreff!
DESCRIPTION:Mit dem „Hefezopf am Abend“ im Mehrgenerationen Bürgerhaus ist eine Plattform entstanden\, an der\nauch Menschen teilnehmen können\, die tagsüber keine Zeit haben. Hier lernen\nsich vor allem neue Bewohner:innen kennen und tauschen sich mit Pliensauvorstädter:\ninnen über die vielfältigen Themen zum Leben im Stadtteil und der Stadt\naus. Zu den Abenden werden unregelmäßig auch Akteur:innen aus dem Stadtteil\neingeladen
URL:https://wandelstadt-esslingen.de/event/hefezopf-am-abend-ein-nachbarschaftstreff/2028-04-17/
LOCATION:Mehrgenerationen- und Bürgerhaus Pliensauvorstadt\, Weilstr. 8\, Esslingen am Neckar\, Baden Württemberg\, 73734\, Deutschland
ORGANIZER;CN="F%C3%B6rderverein Pliensauvorstadt e.V.":MAILTO:fv@fv-pvs.de
END:VEVENT
END:VCALENDAR