BEGIN:VCALENDAR
VERSION:2.0
PRODID:-//Wandelstadt Esslingen - ECPv6.15.20//NONSGML v1.0//EN
CALSCALE:GREGORIAN
METHOD:PUBLISH
X-WR-CALNAME:Wandelstadt Esslingen
X-ORIGINAL-URL:https://wandelstadt-esslingen.de
X-WR-CALDESC:Veranstaltungen für Wandelstadt Esslingen
REFRESH-INTERVAL;VALUE=DURATION:PT1H
X-Robots-Tag:noindex
X-PUBLISHED-TTL:PT1H
BEGIN:VTIMEZONE
TZID:Europe/Berlin
BEGIN:DAYLIGHT
TZOFFSETFROM:+0100
TZOFFSETTO:+0200
TZNAME:CEST
DTSTART:20250330T010000
END:DAYLIGHT
BEGIN:STANDARD
TZOFFSETFROM:+0200
TZOFFSETTO:+0100
TZNAME:CET
DTSTART:20251026T010000
END:STANDARD
BEGIN:DAYLIGHT
TZOFFSETFROM:+0100
TZOFFSETTO:+0200
TZNAME:CEST
DTSTART:20260329T010000
END:DAYLIGHT
BEGIN:STANDARD
TZOFFSETFROM:+0200
TZOFFSETTO:+0100
TZNAME:CET
DTSTART:20261025T010000
END:STANDARD
BEGIN:DAYLIGHT
TZOFFSETFROM:+0100
TZOFFSETTO:+0200
TZNAME:CEST
DTSTART:20270328T010000
END:DAYLIGHT
BEGIN:STANDARD
TZOFFSETFROM:+0200
TZOFFSETTO:+0100
TZNAME:CET
DTSTART:20271031T010000
END:STANDARD
END:VTIMEZONE
BEGIN:VEVENT
DTSTART;TZID=Europe/Berlin:20260119T180000
DTEND;TZID=Europe/Berlin:20260119T180000
DTSTAMP:20260421T234154
CREATED:20251029T163914Z
LAST-MODIFIED:20251029T163929Z
UID:6986-1768845600-1768845600@wandelstadt-esslingen.de
SUMMARY:Gutes Leben – Warum wir Werte brauchen!
DESCRIPTION:18:00 Uhr\nOnline und vor Ort Hochschule Esslingen\, Campus Stadtmitte\, Kanalstr. 33\, Gebäude 1\, Senatssaal\, Raum S 01.021 \nWas motiviert Menschen zu einem guten Leben? Wie führen Werte zu verantwortungsbewusstem Handeln? Und welche Rolle spielen sie für unsere aktive Mitgestaltung der Gesellschaft? Der Abschlussvortrag unserer Veranstaltungsreihe lädt dazu ein\, den Weg von philosophischen Tugendlehren hin zu konkretem gesellschaftlichem Engagement zu erkunden. Ausgehend vom antiken Konzept der Tugend über Hannah Arendts Reflexionen zur politischen Verantwortung zeigt Christoph Quarch\, wie zeitlose Werte in privates und gesellschaftliches Engagement übersetzt werden können.  \nAls konkretes Beispiel skizziert er seinen Vorschlag zur Einrichtung eines europäischen Bürgerdienstes\, das zu erkennen gibt\, wie Werte gesellschaftlich implementiert und politisch Wirkung entfachen können. Denn Werte sind nur dann lebendig\, wenn sie unser Handeln leiten und gesellschaftliche Veränderung bewirken. \nZur Anmeldung \nLive-Stream\nChristoph Quarch Achim Hehn© \nReferent: Dr. Christoph Quarch\nDr. Christoph Quarch ist Philosoph\, Autor und Publizist. Er kommentiert wöchentlich aktuelle Ereignisse als „Frühstücks-Quarch“ in SWRaktuell und tritt regelmäßig im Radio und Fernsehen auf. Quarch unterrichtet Ethik\, Wirtschaftsphilosophie und Philosophie an verschiedenen Hochschulen\, darunter die HS Fulda\, HSBA Hamburg und Universität Basel. Als Reiseleiter von Philosophiereisen arbeitet er unter anderem für ZEIT REISEN. Quarch studierte Evangelische Theologie\, Philosophie und Religionswissenschaft an den Universitäten Heidelberg und Tübingen und wurde 1996 über Platons Philosophie der Lebendigkeit promoviert. Als Autor\, Redner und Berater für Unternehmen übersetzt er die großen Werke der abendländischen Philosophie in zeitgemäße Lebenskunst und Weltdeutung.
URL:https://wandelstadt-esslingen.de/event/gutes-leben-warum-wir-werte-brauchen/
LOCATION:Campus Stadtmitte / Hochschule Eslingen\, Kanalstraße 33\, Esslingen\, Deutschland
END:VEVENT
END:VCALENDAR