BEGIN:VCALENDAR
VERSION:2.0
PRODID:-//Wandelstadt Esslingen - ECPv6.15.20//NONSGML v1.0//EN
CALSCALE:GREGORIAN
METHOD:PUBLISH
X-WR-CALNAME:Wandelstadt Esslingen
X-ORIGINAL-URL:https://wandelstadt-esslingen.de
X-WR-CALDESC:Veranstaltungen für Wandelstadt Esslingen
REFRESH-INTERVAL;VALUE=DURATION:PT1H
X-Robots-Tag:noindex
X-PUBLISHED-TTL:PT1H
BEGIN:VTIMEZONE
TZID:Europe/Berlin
BEGIN:DAYLIGHT
TZOFFSETFROM:+0100
TZOFFSETTO:+0200
TZNAME:CEST
DTSTART:20240331T010000
END:DAYLIGHT
BEGIN:STANDARD
TZOFFSETFROM:+0200
TZOFFSETTO:+0100
TZNAME:CET
DTSTART:20241027T010000
END:STANDARD
BEGIN:DAYLIGHT
TZOFFSETFROM:+0100
TZOFFSETTO:+0200
TZNAME:CEST
DTSTART:20250330T010000
END:DAYLIGHT
BEGIN:STANDARD
TZOFFSETFROM:+0200
TZOFFSETTO:+0100
TZNAME:CET
DTSTART:20251026T010000
END:STANDARD
BEGIN:DAYLIGHT
TZOFFSETFROM:+0100
TZOFFSETTO:+0200
TZNAME:CEST
DTSTART:20260329T010000
END:DAYLIGHT
BEGIN:STANDARD
TZOFFSETFROM:+0200
TZOFFSETTO:+0100
TZNAME:CET
DTSTART:20261025T010000
END:STANDARD
END:VTIMEZONE
BEGIN:VEVENT
DTSTART;TZID=Europe/Berlin:20250320T180000
DTEND;TZID=Europe/Berlin:20250320T210000
DTSTAMP:20260421T195815
CREATED:20250228T190001Z
LAST-MODIFIED:20250228T190001Z
UID:4371-1742493600-1742504400@wandelstadt-esslingen.de
SUMMARY:GREENBORDER Film und Talk
DESCRIPTION:Einleitung & informeller Dialog mit Mitarbeiterinnen der Antidiskriminierungsstelle\nEsslingen (ADES) und Expert*innen aus der Geflüchtetenberatung\nDer Film „Green Border“ von Agnieszka Holland ist ein intensives Drama und zeigt die\nunmenschlichen Bedingungen für Geflüchtete an der Grenze zwischen Belarus und Polen.\nDabei werden verschiedene Perspektiven beleuchtet\, darunter die einer syrischen Familie\,\neiner afghanischen Englischlehrerin\, einer polnischen Psychotherapeutin\, welche sich einer\nGruppe Aktivist*innen anschließt und eines polnischen Grenzbeamten. Der Film wurde beim\nFilmfestival von Venedig 2023 mit dem Spezialpreis der Jury ausgezeichnet.\nDer Film ist in schwarz-weiß.\nDer informelle Dialog wird interaktiv mit einer „Wand der Eindrücke“ ergänzt. Besucher*innen\nkönnen nach der Filmvorführung ihre Eindrücke\, Gefühle\, Sorgen und Ängste an dieser Wand\nzum Ausdruck bringen. Bei Wunsch kann ein informeller Dialog mit Mitarbeiter*innen der\nAntidiskriminierungsstelle Esslingen und Expert*innen aus der Beratung für Menschen mit\nFluchterfahrung geführt werden.
URL:https://wandelstadt-esslingen.de/event/greenborder-film-und-talk/
LOCATION:KoKi Esslingen\, Maille 4-9\, Esslingen\, 73728
END:VEVENT
END:VCALENDAR