BEGIN:VCALENDAR
VERSION:2.0
PRODID:-//Wandelstadt Esslingen - ECPv6.15.20//NONSGML v1.0//EN
CALSCALE:GREGORIAN
METHOD:PUBLISH
X-WR-CALNAME:Wandelstadt Esslingen
X-ORIGINAL-URL:https://wandelstadt-esslingen.de
X-WR-CALDESC:Veranstaltungen für Wandelstadt Esslingen
REFRESH-INTERVAL;VALUE=DURATION:PT1H
X-Robots-Tag:noindex
X-PUBLISHED-TTL:PT1H
BEGIN:VTIMEZONE
TZID:Europe/Berlin
BEGIN:DAYLIGHT
TZOFFSETFROM:+0100
TZOFFSETTO:+0200
TZNAME:CEST
DTSTART:20240331T010000
END:DAYLIGHT
BEGIN:STANDARD
TZOFFSETFROM:+0200
TZOFFSETTO:+0100
TZNAME:CET
DTSTART:20241027T010000
END:STANDARD
BEGIN:DAYLIGHT
TZOFFSETFROM:+0100
TZOFFSETTO:+0200
TZNAME:CEST
DTSTART:20250330T010000
END:DAYLIGHT
BEGIN:STANDARD
TZOFFSETFROM:+0200
TZOFFSETTO:+0100
TZNAME:CET
DTSTART:20251026T010000
END:STANDARD
BEGIN:DAYLIGHT
TZOFFSETFROM:+0100
TZOFFSETTO:+0200
TZNAME:CEST
DTSTART:20260329T010000
END:DAYLIGHT
BEGIN:STANDARD
TZOFFSETFROM:+0200
TZOFFSETTO:+0100
TZNAME:CET
DTSTART:20261025T010000
END:STANDARD
END:VTIMEZONE
BEGIN:VEVENT
DTSTART;TZID=Europe/Berlin:20251127T180000
DTEND;TZID=Europe/Berlin:20251127T180000
DTSTAMP:20260421T182630
CREATED:20251029T162907Z
LAST-MODIFIED:20251029T162917Z
UID:6980-1764266400-1764266400@wandelstadt-esslingen.de
SUMMARY:Girls & Gods
DESCRIPTION:Do | 27.11.2025 | 18.00 Uhr\n104 Minuten | FSK 12  | OmU Specials > Orange Days \nDer Film läuft im Rahmen der UN-Kampagne Orange Days\, die auf geschlechtsspezifische Gewalt aufmerksam macht\, in Kooperation mit dem Referat für Chancengleichheit der Stadt Esslingen. Begrüßung durch Jitka Sklenářová\, Beauftragte für Chancengleichheit. Ergänzend dazu läuft am 03.12. um 20:00 Uhr der Spielfilm OXANA über die FEMEN-Bewegung. \nDer visuell beeindruckende\, aktivistische und vielstimmige Dokumentarfilm\, initiiert von der FEMEN-Aktivistin Inna Shevchenko stellt die Frage\, ob Feminismus und Religion koexistieren können\, in den Mittelpunkt.  \nDer Film begleitet Sevchenkos Reise nach Deutschland\, Österreich und in die USA\, wo sie Religionskritikerinnen\, aber auch Reformerinnen und gläubige Feministinnen trifft. Ihr Fokus liegt dabei auf dem katholischen und orthodoxen Christentum\, Judentum und Islam.
URL:https://wandelstadt-esslingen.de/event/girls-gods/
LOCATION:Kommunales Kino\, Maille 4-9\, Esslingen\, 73728\, Deutschland
END:VEVENT
END:VCALENDAR