BEGIN:VCALENDAR
VERSION:2.0
PRODID:-//Wandelstadt Esslingen - ECPv6.15.20//NONSGML v1.0//EN
CALSCALE:GREGORIAN
METHOD:PUBLISH
X-WR-CALNAME:Wandelstadt Esslingen
X-ORIGINAL-URL:https://wandelstadt-esslingen.de
X-WR-CALDESC:Veranstaltungen für Wandelstadt Esslingen
REFRESH-INTERVAL;VALUE=DURATION:PT1H
X-Robots-Tag:noindex
X-PUBLISHED-TTL:PT1H
BEGIN:VTIMEZONE
TZID:Europe/Berlin
BEGIN:DAYLIGHT
TZOFFSETFROM:+0100
TZOFFSETTO:+0200
TZNAME:CEST
DTSTART:20250330T010000
END:DAYLIGHT
BEGIN:STANDARD
TZOFFSETFROM:+0200
TZOFFSETTO:+0100
TZNAME:CET
DTSTART:20251026T010000
END:STANDARD
BEGIN:DAYLIGHT
TZOFFSETFROM:+0100
TZOFFSETTO:+0200
TZNAME:CEST
DTSTART:20260329T010000
END:DAYLIGHT
BEGIN:STANDARD
TZOFFSETFROM:+0200
TZOFFSETTO:+0100
TZNAME:CET
DTSTART:20261025T010000
END:STANDARD
BEGIN:DAYLIGHT
TZOFFSETFROM:+0100
TZOFFSETTO:+0200
TZNAME:CEST
DTSTART:20270328T010000
END:DAYLIGHT
BEGIN:STANDARD
TZOFFSETFROM:+0200
TZOFFSETTO:+0100
TZNAME:CET
DTSTART:20271031T010000
END:STANDARD
END:VTIMEZONE
BEGIN:VEVENT
DTSTART;TZID=Europe/Berlin:20260319T163000
DTEND;TZID=Europe/Berlin:20260319T213000
DTSTAMP:20260421T195835
CREATED:20260224T162737Z
LAST-MODIFIED:20260224T162737Z
UID:8303-1773937800-1773955800@wandelstadt-esslingen.de
SUMMARY:Gesund bewegen und trainieren
DESCRIPTION:Mitmachangebot für Frauen Regelmäßige Bewegung ist eine der wirksamsten Maßnahmen\, um die Gesundheit zu erhalten und zu verbessern – unabhängig etwa vom Alter\, Geschlecht oder körperlichen Einschränkungen. Im Grunde hat jede körperliche Aktivität Vorteile für die Gesundheit. Wichtig ist nur\, regelmäßig körperlich aktiv zu sein. Also zögern Sie nicht – starten Sie gleich mit dem Training beim Mitmachangebot! Referentin : Nicole Moebus\, Trainerin C-Lizenz im Judo\, A-Lizenz Fitness und Übungsleiterin B Sport in der Rehabilitation (Profil Orthopädie) Ablauf 16:30 bis 17:30 Uhr Sport\, anschließend kleiner Imbiss und Getränke 18:30 bis 21:30 Uhr Frauensauna
URL:https://wandelstadt-esslingen.de/event/gesund-bewegen-und-trainieren/
LOCATION:KSV SportArena\, Auenweg 21\, Esslingen\, 73733\, Deutschland
END:VEVENT
END:VCALENDAR