BEGIN:VCALENDAR
VERSION:2.0
PRODID:-//Wandelstadt Esslingen - ECPv6.15.20//NONSGML v1.0//EN
CALSCALE:GREGORIAN
METHOD:PUBLISH
X-WR-CALNAME:Wandelstadt Esslingen
X-ORIGINAL-URL:https://wandelstadt-esslingen.de
X-WR-CALDESC:Veranstaltungen für Wandelstadt Esslingen
REFRESH-INTERVAL;VALUE=DURATION:PT1H
X-Robots-Tag:noindex
X-PUBLISHED-TTL:PT1H
BEGIN:VTIMEZONE
TZID:Europe/Berlin
BEGIN:DAYLIGHT
TZOFFSETFROM:+0100
TZOFFSETTO:+0200
TZNAME:CEST
DTSTART:20240331T010000
END:DAYLIGHT
BEGIN:STANDARD
TZOFFSETFROM:+0200
TZOFFSETTO:+0100
TZNAME:CET
DTSTART:20241027T010000
END:STANDARD
BEGIN:DAYLIGHT
TZOFFSETFROM:+0100
TZOFFSETTO:+0200
TZNAME:CEST
DTSTART:20250330T010000
END:DAYLIGHT
BEGIN:STANDARD
TZOFFSETFROM:+0200
TZOFFSETTO:+0100
TZNAME:CET
DTSTART:20251026T010000
END:STANDARD
BEGIN:DAYLIGHT
TZOFFSETFROM:+0100
TZOFFSETTO:+0200
TZNAME:CEST
DTSTART:20260329T010000
END:DAYLIGHT
BEGIN:STANDARD
TZOFFSETFROM:+0200
TZOFFSETTO:+0100
TZNAME:CET
DTSTART:20261025T010000
END:STANDARD
END:VTIMEZONE
BEGIN:VEVENT
DTSTART;TZID=Europe/Berlin:20250307T200000
DTEND;TZID=Europe/Berlin:20250308T023000
DTSTAMP:20260421T170213
CREATED:20250222T205425Z
LAST-MODIFIED:20250222T205443Z
UID:4264-1741377600-1741401000@wandelstadt-esslingen.de
SUMMARY:Gemeinsam stark: Tanz in den Frauen*tag
DESCRIPTION:Auftakt der Frauenwochen \nFeminist:innen kämpfen jeden Tag – daher nehmen wir uns nun Zeit zum Feiern! Wir laden zur Party für Feminismus\, Vielfalt und Empowerment ein und feiern gemeinsam in den 8. März hinein. Unter dem Motto „Gemeinsam stark“ vereinen wir Kräfte\, um auf die Anliegen und Errungenschaften der feministischen  Community aufmerksam zu machen und Erfolge zu zelebrieren. \nNach einem Sektempfang und einer Führung durch die Plakatausstellung von Wildwasser e. V. stellen Women on Wheels (WOW) mit ihrer Musik und fiktiven Frauenrollen Klischees in Frage. Nach einer entspannten Zeit zum Netzwerken und Austausch übernimmt Djane Strega das Pult und bringt die Tanzfläche mit kraftvollen Beats zum Beben. \nLasst uns den Internationalen Frauen*tag laut und voller Energie begrüßen! \n\n\n\n\n\n\nPreis\n\nVVK 7 €\,ermäßigt 4 €; Abendkasse 10 €\, ermäßigt 7 €
URL:https://wandelstadt-esslingen.de/event/gemeinsam-stark-tanz-in-den-frauentag/
LOCATION:Kulturzentrum Dieselstraße\, Dieselstraße 26\, Esslingen\, Deutschland
CATEGORIES:Gemütliches Treffen,Infoveranstaltung,Kulturveranstaltung,Vernetzungsveranstaltung
ORGANIZER;CN="Kulturzentrum Dieselstrasse":MAILTO:info@dieselstrasse.de
END:VEVENT
END:VCALENDAR