BEGIN:VCALENDAR
VERSION:2.0
PRODID:-//Wandelstadt Esslingen - ECPv6.15.20//NONSGML v1.0//EN
CALSCALE:GREGORIAN
METHOD:PUBLISH
X-WR-CALNAME:Wandelstadt Esslingen
X-ORIGINAL-URL:https://wandelstadt-esslingen.de
X-WR-CALDESC:Veranstaltungen für Wandelstadt Esslingen
REFRESH-INTERVAL;VALUE=DURATION:PT1H
X-Robots-Tag:noindex
X-PUBLISHED-TTL:PT1H
BEGIN:VTIMEZONE
TZID:Europe/Berlin
BEGIN:DAYLIGHT
TZOFFSETFROM:+0100
TZOFFSETTO:+0200
TZNAME:CEST
DTSTART:20250330T010000
END:DAYLIGHT
BEGIN:STANDARD
TZOFFSETFROM:+0200
TZOFFSETTO:+0100
TZNAME:CET
DTSTART:20251026T010000
END:STANDARD
BEGIN:DAYLIGHT
TZOFFSETFROM:+0100
TZOFFSETTO:+0200
TZNAME:CEST
DTSTART:20260329T010000
END:DAYLIGHT
BEGIN:STANDARD
TZOFFSETFROM:+0200
TZOFFSETTO:+0100
TZNAME:CET
DTSTART:20261025T010000
END:STANDARD
BEGIN:DAYLIGHT
TZOFFSETFROM:+0100
TZOFFSETTO:+0200
TZNAME:CEST
DTSTART:20270328T010000
END:DAYLIGHT
BEGIN:STANDARD
TZOFFSETFROM:+0200
TZOFFSETTO:+0100
TZNAME:CET
DTSTART:20271031T010000
END:STANDARD
END:VTIMEZONE
BEGIN:VEVENT
DTSTART;TZID=Europe/Berlin:20260326T180000
DTEND;TZID=Europe/Berlin:20260326T200000
DTSTAMP:20260421T181432
CREATED:20260224T162753Z
LAST-MODIFIED:20260224T162753Z
UID:8310-1774548000-1774555200@wandelstadt-esslingen.de
SUMMARY:Gehirn in Topform
DESCRIPTION:Konzentrations- und Gedächtnistechniken Wünschen Sie sich auch manchmal einen Turbolader fürs Gehirn? In diesem interaktiven Impulsvortag erfahren Sie\, wie Sie Ihr Gehirn in wenigen Minuten auf Hochtouren bringen und auch in stressigen Phasen einen kühlen Kopf bewahren. So bleiben Sie fokussiert und können sich jederzeit voll auf Ihren Kopf verlassen. Mit der Körperbriefkasten-Technik bekommen Sie zudem eine universell einsetzbare Gedächtnistechnik für Alltag und Beruf an die Hand. Lassen Sie sich inspirieren und staunen Sie\, was Ihr Gehirn alles leisten kann! Referentin Vera Thumsch\, denknatur Gedächtnistraining & Coaching\, gelernte Bankkauﬀrau und Diplom-Kauﬀrau univ.\, freiberufliche Konzentrations- und Gedächtnistrainerin und systemischer Business- und Team-Coach (SHB) Veranstaltungsort : Hochschule Esslingen\, Senatssaal S 01.021\, Kanalstraße 33\, 73728 Esslingen am Neckar
URL:https://wandelstadt-esslingen.de/event/gehirn-in-topform/
END:VEVENT
END:VCALENDAR