BEGIN:VCALENDAR
VERSION:2.0
PRODID:-//Wandelstadt Esslingen - ECPv6.15.20//NONSGML v1.0//EN
CALSCALE:GREGORIAN
METHOD:PUBLISH
X-WR-CALNAME:Wandelstadt Esslingen
X-ORIGINAL-URL:https://wandelstadt-esslingen.de
X-WR-CALDESC:Veranstaltungen für Wandelstadt Esslingen
REFRESH-INTERVAL;VALUE=DURATION:PT1H
X-Robots-Tag:noindex
X-PUBLISHED-TTL:PT1H
BEGIN:VTIMEZONE
TZID:Europe/Berlin
BEGIN:DAYLIGHT
TZOFFSETFROM:+0100
TZOFFSETTO:+0200
TZNAME:CEST
DTSTART:20230326T010000
END:DAYLIGHT
BEGIN:STANDARD
TZOFFSETFROM:+0200
TZOFFSETTO:+0100
TZNAME:CET
DTSTART:20231029T010000
END:STANDARD
BEGIN:DAYLIGHT
TZOFFSETFROM:+0100
TZOFFSETTO:+0200
TZNAME:CEST
DTSTART:20240331T010000
END:DAYLIGHT
BEGIN:STANDARD
TZOFFSETFROM:+0200
TZOFFSETTO:+0100
TZNAME:CET
DTSTART:20241027T010000
END:STANDARD
BEGIN:DAYLIGHT
TZOFFSETFROM:+0100
TZOFFSETTO:+0200
TZNAME:CEST
DTSTART:20250330T010000
END:DAYLIGHT
BEGIN:STANDARD
TZOFFSETFROM:+0200
TZOFFSETTO:+0100
TZNAME:CET
DTSTART:20251026T010000
END:STANDARD
END:VTIMEZONE
BEGIN:VEVENT
DTSTART;TZID=Europe/Berlin:20241023T160000
DTEND;TZID=Europe/Berlin:20241023T173000
DTSTAMP:20260422T143639
CREATED:20241014T191438Z
LAST-MODIFIED:20241021T204213Z
UID:3651-1729699200-1729704600@wandelstadt-esslingen.de
SUMMARY:Geh-Café - Unterwegs mit Architects for Future
DESCRIPTION:Esslingen zu Fuß entdecken – Unterwegs mit Architects for Future\n\nWas hat das Bauen eigentlich mit dem Klima zu tun? Wie kann eine Architektur aussehen\, die sich mit unseren Klimazielen verträgt\, welche Rolle spielt die Sanierung bestehender Gebäude dabei und was steht einer echten Bauwende noch im Weg? Das kann man anhand anschaulicher Beispiele auf einem Spaziergang durch die Esslinger Innenstadt mit der Ortsgruppe der Architects for Future erfahren. \nAuf einem geführten Spaziergang geben Experten ihr Wissen und ihre Erfahrungen zu wechselnden Themen weiter. Zum gemütlichen Ausklang laden wir Sie zu Getränken und einem Snack ein. \n\nTreffpunkt Bahnhofplatz\nZiel Villa Merkel\n\n\nEine Anmeldung per Mail an klimaschutz@esslingen.de ist erwünscht.
URL:https://wandelstadt-esslingen.de/event/geh-cafe-2-3/
LOCATION:Bahnhofsvorplatz\, Esslingen
CATEGORIES:Infoveranstaltung
END:VEVENT
END:VCALENDAR