BEGIN:VCALENDAR
VERSION:2.0
PRODID:-//Wandelstadt Esslingen - ECPv6.15.20//NONSGML v1.0//EN
CALSCALE:GREGORIAN
METHOD:PUBLISH
X-WR-CALNAME:Wandelstadt Esslingen
X-ORIGINAL-URL:https://wandelstadt-esslingen.de
X-WR-CALDESC:Veranstaltungen für Wandelstadt Esslingen
REFRESH-INTERVAL;VALUE=DURATION:PT1H
X-Robots-Tag:noindex
X-PUBLISHED-TTL:PT1H
BEGIN:VTIMEZONE
TZID:Europe/Berlin
BEGIN:DAYLIGHT
TZOFFSETFROM:+0100
TZOFFSETTO:+0200
TZNAME:CEST
DTSTART:20240331T010000
END:DAYLIGHT
BEGIN:STANDARD
TZOFFSETFROM:+0200
TZOFFSETTO:+0100
TZNAME:CET
DTSTART:20241027T010000
END:STANDARD
BEGIN:DAYLIGHT
TZOFFSETFROM:+0100
TZOFFSETTO:+0200
TZNAME:CEST
DTSTART:20250330T010000
END:DAYLIGHT
BEGIN:STANDARD
TZOFFSETFROM:+0200
TZOFFSETTO:+0100
TZNAME:CET
DTSTART:20251026T010000
END:STANDARD
BEGIN:DAYLIGHT
TZOFFSETFROM:+0100
TZOFFSETTO:+0200
TZNAME:CEST
DTSTART:20260329T010000
END:DAYLIGHT
BEGIN:STANDARD
TZOFFSETFROM:+0200
TZOFFSETTO:+0100
TZNAME:CET
DTSTART:20261025T010000
END:STANDARD
END:VTIMEZONE
BEGIN:VEVENT
DTSTART;TZID=Europe/Berlin:20250202T110000
DTEND;TZID=Europe/Berlin:20250202T130000
DTSTAMP:20260421T203620
CREATED:20250127T121050Z
LAST-MODIFIED:20250127T121050Z
UID:4168-1738494000-1738501200@wandelstadt-esslingen.de
SUMMARY:Gedenkfahrt anlässlich des Todestags von Natenom
DESCRIPTION:Der ADFC Esslingen beteiligt sich und ruft zur Mitfahrt auf. \nSpäteste Anfahrt mit DB von Esslingen um 9:26 Uhr oder etwas früher. \nAm Sonntag\, 02.02.2025 beteiligen wir uns an der Gedenkfahrt anlässlich des Todestags des tödlich überfahrenen bundesweit bekannten Fahrradbloggers Andreas Mandalka alias Natenom. \nTreffpunkt:\nSonntag\, 02.02.2025\, 11.00 Uhr\nvor der Staatsanwaltschaft Pforzheim\nLindenstraße 3\, 75175 Pforzheim (Nähe Hauptbahnhof Pforzheim) \nWir fahren im stillen Gedenken die Hausstrecke von Andreas\, auf welcher er am 30.01.2024 tödlich überfahren worden ist\, bis zur Unfallstelle auf der L574 zwischen Schellbronn und Neuhausen. Unterwegs werden wir um 13.00 Uhr eine Gedenkminute abhalten.\nDie Demonstration führt anschließend auf der gleichen Strecke nach Pforzheim zurück.\nDie Gedenkfahrt ist als Demonstration angemeldet und wird von der Polizei begleitet. \nDie Gedenkfahrt wird\, mit Unterstützung von Partnern aus ganz Deutschland\, organisiert von der Radverkehrsinitiative Critical Mass Pforzheim und dem ADFC Pforzheim-Enzkreis.
URL:https://wandelstadt-esslingen.de/event/gedenkfahrt-anlaesslich-des-todestags-von-natenom/
CATEGORIES:Demonstration
ORGANIZER;CN="Allgemeiner Deutscher Fahrrad-Club e. V. (ADFC)":MAILTO:thomas.albrecht@adfc-bw.de
END:VEVENT
END:VCALENDAR