BEGIN:VCALENDAR
VERSION:2.0
PRODID:-//Wandelstadt Esslingen - ECPv6.15.20//NONSGML v1.0//EN
CALSCALE:GREGORIAN
METHOD:PUBLISH
X-WR-CALNAME:Wandelstadt Esslingen
X-ORIGINAL-URL:https://wandelstadt-esslingen.de
X-WR-CALDESC:Veranstaltungen für Wandelstadt Esslingen
REFRESH-INTERVAL;VALUE=DURATION:PT1H
X-Robots-Tag:noindex
X-PUBLISHED-TTL:PT1H
BEGIN:VTIMEZONE
TZID:Europe/Berlin
BEGIN:DAYLIGHT
TZOFFSETFROM:+0100
TZOFFSETTO:+0200
TZNAME:CEST
DTSTART:20220327T010000
END:DAYLIGHT
BEGIN:STANDARD
TZOFFSETFROM:+0200
TZOFFSETTO:+0100
TZNAME:CET
DTSTART:20221030T010000
END:STANDARD
BEGIN:DAYLIGHT
TZOFFSETFROM:+0100
TZOFFSETTO:+0200
TZNAME:CEST
DTSTART:20230326T010000
END:DAYLIGHT
BEGIN:STANDARD
TZOFFSETFROM:+0200
TZOFFSETTO:+0100
TZNAME:CET
DTSTART:20231029T010000
END:STANDARD
BEGIN:DAYLIGHT
TZOFFSETFROM:+0100
TZOFFSETTO:+0200
TZNAME:CEST
DTSTART:20240331T010000
END:DAYLIGHT
BEGIN:STANDARD
TZOFFSETFROM:+0200
TZOFFSETTO:+0100
TZNAME:CET
DTSTART:20241027T010000
END:STANDARD
END:VTIMEZONE
BEGIN:VEVENT
DTSTART;TZID=Europe/Berlin:20230728T180000
DTEND;TZID=Europe/Berlin:20230730T170000
DTSTAMP:20260422T102247
CREATED:20230724T082132Z
LAST-MODIFIED:20230724T082132Z
UID:1988-1690567200-1690736400@wandelstadt-esslingen.de
SUMMARY:GEBEN&GEBEN – das solidarische Festival für Kunst\, Handwerk & Design
DESCRIPTION:GEBEN&GEBEN\, das solidarische Festival für Kunst\, Handwerk & Design öffnet im Juli 2023 zum dritten Mal seine Pforten im Kulturzentrum DIESELSTRASSE in Esslingen/Neckar und ist die Weiterentwicklung der gleichnamigen Messe\, die in den letzten beiden Jahren an gleicher Stelle stattgefunden hat.  \nVon Freitag 28.07. bis Sonntag 30.07.2023 präsentieren und verkaufen rund 20 kreative Köpfe aus Kunst\, Handwerk & Design vielfältige Produkte: Von Schmuck bis Mode\, Upcycling und Keramik\, über Malerei und Lifestyleprodukte ist für jede*n etwas dabei. \nUnd weil auch der Name des Festivals Programm ist\, werden 10 % des Gesamtumsatzes an die diesjährige Partnerorganisation STELP e.V. gespendet. \nDie Veranstaltung ist nicht nur eine charmante und professionelle Verkaufsplattform\, sondern auch ein Forum in dem sich junge Labels und Akteur*innen der Kunst- und Kreativszene vernetzen und miteinander ein solidarisches Zeichen setzen. \nAlles in allem erwartet die Besucher*innen eine Auswahl außergewöhnlicher\, handgefertigter und  exklusiven Produkte von Selbstständigen und Labels aus der Region\, frei nach dem Motto: Niedrige Stückzahl – hohe Qualität und Individualität. Kulinarik (Heiß- und Kaltgetränke & Essen) und Kultur (DJs und ein Live-Konzert) sowie ein liebevoll gestalteter Außenbereich geben der Veranstaltung einen charmanten Rahmen und schaffen so ein Festival für alle Sinne. \nÖffnungszeiten:\nFreitag\, 28.07.2023: 18 – 21 Uhr\nSamstag\, 29.07.2023: 11 – 19 Uhr (anschließend: Live-Konzert mit Tiemo Hauer)\nSonntag\, 30.07.2023: 10 – 17 Uhr \nSolidarischer Eintrittspreis: 2 – 5 €.\nDas Festival ist eine Veranstaltung der Initiative GEBEN&GEBEN in Kooperation mit dem Kulturzentrum DIESELSTRASSE. \nPartnerorganisation\nUnsere diesjährige Partnerorganisation ist STELP e.V. aus Stuttgart.\nDer Verein ist eine zivile Hilfsorganisation\, die mit einem Netzwerk von Ehrenamtlichen\, Partner*innen und Sponsor*innen dort unterstützt\, wo die Not am größten ist. \nSTELP lindert akute Not durch schnellen Zugang zu Lebensmitteln\, Sanitärprodukten und medizinischer Versorgung. Sein langfristiges Ziel ist es\, durch Bildungsprojekte das Leben von Menschen – unabhängig von Herkunft\, Alter\, sexueller Orientierung oder politischer und religiöser Weltanschauung – in Not nachhaltig zu verbessern. \nAuch STELP bündelt seine Kräfte\, um konkrete gesellschaftliche Veränderungen herbeizuführen. Damit deckt sich die Philosophie optimal mit der Idee des Festivals GEBEN&GEBEN. \nNähere Informationen finden Sie unter: https://stelp.eu \nHintergrund\nDas Festival entspring der Initiative GEBEN&GEBEN\, die im März 2020 als Reaktion auf den ersten coronabedingten Lockdown von der Esslingerin Ellen Weber-Mack ins Leben gerufen wurde. Die Sorge um das gesellschaftliche Gemeinwohl\, gepaart mit der Bedrohung des eigenen Gewerbes\, bewog die selbstständige Goldschmiedemeisterin dazu\, gleichgesinnte Leidensgenoss*innen zu kontaktieren und von ihrer Idee zu überzeugen\, spezielle „Artefakte der Solidarität“ zu fertigen und 10% ihres dadurch erzielten Umsatzes an wechselnde Partnerorganisationen zu spenden. \nEs fanden sich insgesamt rund 20 selbstständige Künstler*innen\, Handwerker*innen und Designer*innen zusammen\, die sich über digitale Wege vernetzten und gegenseitig bewarben. Innerhalb von zwei Jahren erwirtschafteten sie gemeinsam einen stolzen Umsatz von über 26.000 € und generierten somit über 2.600 € an Spenden\, die anteilig an das Deutsche Rote Kreuz\, die SOS Kinderdörfer Weltweit\, Wildwasser Stuttgart e.V. und Ärzte ohne Grenzen weitergegeben wurden. \nEin besonderer Höhepunkt war die Premiere der GEBEN&GEBEN Messe im Jahr 2021\, bei der sich die kreativen Köpfe zum ersten Mal persönlich begegneten und ihre Produkte einem interessierten Publikum präsentierten. Begeisternde Rückmeldungen von Ausstellenden\, Besucher*innen und der Presse ( siehe angehängter Artikel) überzeugten Organisatorin Ellen Weber-Mack schnell\, die Veranstaltung auch im Jahr 2022 erneut auszurichten und in diesem Jahr weiterzuentwickeln.
URL:https://wandelstadt-esslingen.de/event/gebengeben-das-solidarische-festival-fuer-kunst-handwerk-design/
LOCATION:Kulturzentrum Dieselstraße\, Dieselstraße 26\, Esslingen\, Deutschland
CATEGORIES:Verkaufsveranstaltung
ATTACH;FMTTYPE=image/jpeg:https://wandelstadt-esslingen.de/wp-content/uploads/2023/07/GG22_169_Verena-Ecker.jpg
ORGANIZER;CN="GEBEN&GEBEN":MAILTO:gebenundgeben@posteo.de
END:VEVENT
END:VCALENDAR