BEGIN:VCALENDAR
VERSION:2.0
PRODID:-//Wandelstadt Esslingen - ECPv6.15.20//NONSGML v1.0//EN
CALSCALE:GREGORIAN
METHOD:PUBLISH
X-WR-CALNAME:Wandelstadt Esslingen
X-ORIGINAL-URL:https://wandelstadt-esslingen.de
X-WR-CALDESC:Veranstaltungen für Wandelstadt Esslingen
REFRESH-INTERVAL;VALUE=DURATION:PT1H
X-Robots-Tag:noindex
X-PUBLISHED-TTL:PT1H
BEGIN:VTIMEZONE
TZID:Europe/Berlin
BEGIN:DAYLIGHT
TZOFFSETFROM:+0100
TZOFFSETTO:+0200
TZNAME:CEST
DTSTART:20240331T010000
END:DAYLIGHT
BEGIN:STANDARD
TZOFFSETFROM:+0200
TZOFFSETTO:+0100
TZNAME:CET
DTSTART:20241027T010000
END:STANDARD
BEGIN:DAYLIGHT
TZOFFSETFROM:+0100
TZOFFSETTO:+0200
TZNAME:CEST
DTSTART:20250330T010000
END:DAYLIGHT
BEGIN:STANDARD
TZOFFSETFROM:+0200
TZOFFSETTO:+0100
TZNAME:CET
DTSTART:20251026T010000
END:STANDARD
BEGIN:DAYLIGHT
TZOFFSETFROM:+0100
TZOFFSETTO:+0200
TZNAME:CEST
DTSTART:20260329T010000
END:DAYLIGHT
BEGIN:STANDARD
TZOFFSETFROM:+0200
TZOFFSETTO:+0100
TZNAME:CET
DTSTART:20261025T010000
END:STANDARD
END:VTIMEZONE
BEGIN:VEVENT
DTSTART;TZID=Europe/Berlin:20250929T180000
DTEND;TZID=Europe/Berlin:20250929T213000
DTSTAMP:20260422T013509
CREATED:20250821T111343Z
LAST-MODIFIED:20250821T111343Z
UID:10006192-1759168800-1759181400@wandelstadt-esslingen.de
SUMMARY:Gärtnern im Stadtacker für Vielfalt und Kunst
DESCRIPTION:Der Stadtacker lädt zum gemeinsamen Gärtnern ein\, zum Austauschen\, Experimentieren und Genießen. \n  \nHier werden historische Gemüsesorten angebaut\, gemeinsam geerntet und ihr Saatgut gesichert. Gemeinsam probieren wir tradierte Anbaumethoden aus und denken den Garten als einen Ort für alle Lebewesen. Neben dem Gärtnern liegt ein starker Fokus auf künstlerischer Praxis im Garten\, traditionellen handwerklichen Techniken und einem achtsamen und wertschätzenden Miteinander. \n  \nAlle sind herzlich eingeladen mit uns zu gärtnern\, zu gestalten und zu entspannen! \n  \nWarum alte Gemüsesorten? \nAlte oder historische Gemüsesorten stammen aus der Zeit vor der Industrialisierung und unterscheiden sich oft stark von Supermarktware. Sie sind regional angepasst und meist widerstandsfähiger gegenüber Umweltbedingungen wie Trockenheit oder kargen Böden. Ihre Vielfalt an Formen und Geschmäckern bereichert Gärten und Teller. Zudem bieten sie in der Regel mehr Nährstoffe als moderne Züchtungen. \nNeben dem Gärtnern liegt auch ein starker Fokus auf künstlerischer Praxis\, traditionellen handwerklichen Techniken aus dem Garten und einer achtsamen und wertschätzenden Haltung“\, sagt Johanna Knoop\, Projektleitung des Stadtackers. „Durch das Anbauen alter Gemüsesorten wird nicht nur die Vielfalt auf den Tellern bereichert\, sondern auch ein Beitrag zum Fortbestand bedrohter Kulturpflanzen geleistet.“ \n\n\nIm Stadtacker treffen sich Menschen regelmäßig\, um gemeinsam zu gärtnern\, zu ernten und neue Rezepte auszuprobieren. Bei Workshops werden sowohl traditionelle und als auch kreative Techniken erlernt\, wie beispielsweise das Färben mit Pflanzen oder der Bau von Unterschlüpfen für Tiere. Der Stadtacker wird nicht als rein ertragsorientiertes Projekt betrachtet\, sondern als ein Experimentierfeld für gemeinsames Lernen und praktische Erfahrungen. \nDas Miteinander im Garten ist geprägt von Offenheit\, Transparenz\, Respekt\, Wertschätzung und Diskriminierungssensibilität. Ein Umfeld\, das von Genuss\, Kreativität und gegenseitiger Unterstützung geprägt ist\, in dem sich alle willkommen fühlen und sich frei entfalten können. \n\nStandort: \nDer Stadtacker befindet sich vor dem alten Gärtnerhaus (Pulverwiesen 21) mit historischem Bezug. Das Gewächshaus des Gebäudes wird für das Projekt zur Anzucht der Pflanzen wieder aktiviert und belebt. Ursprünglich baute hier der Gärtner für die Familie Merkel im 19. Jahrhundert schon Gemüse an.
URL:https://wandelstadt-esslingen.de/event/gaertnern-im-stadtacker-fuer-vielfalt-und-kunst/2025-09-29/
LOCATION:Stadtacker\, Pulverwiesen 11\, Esslingen\, 73728
CATEGORIES:Beteiligung,Infoveranstaltung,Live-Veranstaltung
END:VEVENT
END:VCALENDAR