BEGIN:VCALENDAR
VERSION:2.0
PRODID:-//Wandelstadt Esslingen - ECPv6.15.20//NONSGML v1.0//EN
CALSCALE:GREGORIAN
METHOD:PUBLISH
X-WR-CALNAME:Wandelstadt Esslingen
X-ORIGINAL-URL:https://wandelstadt-esslingen.de
X-WR-CALDESC:Veranstaltungen für Wandelstadt Esslingen
REFRESH-INTERVAL;VALUE=DURATION:PT1H
X-Robots-Tag:noindex
X-PUBLISHED-TTL:PT1H
BEGIN:VTIMEZONE
TZID:Europe/Berlin
BEGIN:DAYLIGHT
TZOFFSETFROM:+0100
TZOFFSETTO:+0200
TZNAME:CEST
DTSTART:20240331T010000
END:DAYLIGHT
BEGIN:STANDARD
TZOFFSETFROM:+0200
TZOFFSETTO:+0100
TZNAME:CET
DTSTART:20241027T010000
END:STANDARD
BEGIN:DAYLIGHT
TZOFFSETFROM:+0100
TZOFFSETTO:+0200
TZNAME:CEST
DTSTART:20250330T010000
END:DAYLIGHT
BEGIN:STANDARD
TZOFFSETFROM:+0200
TZOFFSETTO:+0100
TZNAME:CET
DTSTART:20251026T010000
END:STANDARD
BEGIN:DAYLIGHT
TZOFFSETFROM:+0100
TZOFFSETTO:+0200
TZNAME:CEST
DTSTART:20260329T010000
END:DAYLIGHT
BEGIN:STANDARD
TZOFFSETFROM:+0200
TZOFFSETTO:+0100
TZNAME:CET
DTSTART:20261025T010000
END:STANDARD
END:VTIMEZONE
BEGIN:VEVENT
DTSTART;TZID=Europe/Berlin:20250504T110000
DTEND;TZID=Europe/Berlin:20250504T180000
DTSTAMP:20260422T023814
CREATED:20250408T100723Z
LAST-MODIFIED:20250408T100723Z
UID:4637-1746356400-1746381600@wandelstadt-esslingen.de
SUMMARY:Frühlingsfest mit Hundeshow
DESCRIPTION:Unser alljährliches Frühlingsfest am Sonntag\, 4. Mai\, auf dem Gelände des Tierheims auf der Neckarinsel\, Nymphaeaweg 6\, bietet ein buntes Programm für Groß & Klein:  Bei der Hundevorführung zeigen unsere Schützlinge was sie können. Tim Schuck\, erfolgreicher Teilnehmer der Fernsehshow „Top Dog Germany“\, tritt mit Border Collie Yara auf. Eine Tombola winkt mit tollen Preisen. An verschiedenen Ständen erhält man Infos rund um Tiere und Tierwohl und schlussendlich ist auch für das leibliche Wohl gesorgt. Kommen Sie vorbei\, informieren Sie sich\, genießen Sie den Tag und unterstützen dabei ganz nebenbei unsere vielen Fellnasen.
URL:https://wandelstadt-esslingen.de/event/fruehlingsfest-mit-hundeshow/
CATEGORIES:Gemütliches Treffen,Infoveranstaltung
ATTACH;FMTTYPE=image/jpeg:https://wandelstadt-esslingen.de/wp-content/uploads/2025/04/Herbstfest-2.jpg
END:VEVENT
END:VCALENDAR