BEGIN:VCALENDAR
VERSION:2.0
PRODID:-//Wandelstadt Esslingen - ECPv6.15.20//NONSGML v1.0//EN
CALSCALE:GREGORIAN
METHOD:PUBLISH
X-WR-CALNAME:Wandelstadt Esslingen
X-ORIGINAL-URL:https://wandelstadt-esslingen.de
X-WR-CALDESC:Veranstaltungen für Wandelstadt Esslingen
REFRESH-INTERVAL;VALUE=DURATION:PT1H
X-Robots-Tag:noindex
X-PUBLISHED-TTL:PT1H
BEGIN:VTIMEZONE
TZID:Europe/Berlin
BEGIN:DAYLIGHT
TZOFFSETFROM:+0100
TZOFFSETTO:+0200
TZNAME:CEST
DTSTART:20230326T010000
END:DAYLIGHT
BEGIN:STANDARD
TZOFFSETFROM:+0200
TZOFFSETTO:+0100
TZNAME:CET
DTSTART:20231029T010000
END:STANDARD
BEGIN:DAYLIGHT
TZOFFSETFROM:+0100
TZOFFSETTO:+0200
TZNAME:CEST
DTSTART:20240331T010000
END:DAYLIGHT
BEGIN:STANDARD
TZOFFSETFROM:+0200
TZOFFSETTO:+0100
TZNAME:CET
DTSTART:20241027T010000
END:STANDARD
BEGIN:DAYLIGHT
TZOFFSETFROM:+0100
TZOFFSETTO:+0200
TZNAME:CEST
DTSTART:20250330T010000
END:DAYLIGHT
BEGIN:STANDARD
TZOFFSETFROM:+0200
TZOFFSETTO:+0100
TZNAME:CET
DTSTART:20251026T010000
END:STANDARD
END:VTIMEZONE
BEGIN:VEVENT
DTSTART;TZID=Europe/Berlin:20240212T180000
DTEND;TZID=Europe/Berlin:20240212T210000
DTSTAMP:20260421T230245
CREATED:20240131T092025Z
LAST-MODIFIED:20240131T092931Z
UID:2551-1707760800-1707771600@wandelstadt-esslingen.de
SUMMARY:Freifunk-Seminar
DESCRIPTION:Freifunk Esslingen sieht immer mehr Bedarf für Freifunk WLAN\, egal ob in Flüchtlingsunterkünften\, anderen sozialen Einrichtungen oder im öffentlichen Raum (städtische Plätze und Fußgängerzonen). Was mit dem steigenden Bedarf leider bisher nicht mitgewachsen ist\, ist die Zahl der aktiven ehrenamtlichen Freifunker. Die Initiative hat deshalb die Idee entwickelt\, in Esslingen ein Freifunk Seminar anzubieten.\n\nZiele: die Freifunk Idee in Esslingen bekannter machen und neue Mit-Freifunker für die Esslinger Community zu finden. \nDie weiteren Details zu dieser Veranstaltung finden sich auf der Webseite der Veranstaltung. Eine Anmeldung ist erwünscht.
URL:https://wandelstadt-esslingen.de/event/freifunk-seminar/
LOCATION:Makers Inn\, Küferstraße 46\, Esslingen
ORGANIZER;CN="Freifunk Esslingen":MAILTO:freifunk@netzwissen.de
END:VEVENT
END:VCALENDAR