BEGIN:VCALENDAR
VERSION:2.0
PRODID:-//Wandelstadt Esslingen - ECPv6.15.20//NONSGML v1.0//EN
CALSCALE:GREGORIAN
METHOD:PUBLISH
X-WR-CALNAME:Wandelstadt Esslingen
X-ORIGINAL-URL:https://wandelstadt-esslingen.de
X-WR-CALDESC:Veranstaltungen für Wandelstadt Esslingen
REFRESH-INTERVAL;VALUE=DURATION:PT1H
X-Robots-Tag:noindex
X-PUBLISHED-TTL:PT1H
BEGIN:VTIMEZONE
TZID:Europe/Berlin
BEGIN:DAYLIGHT
TZOFFSETFROM:+0100
TZOFFSETTO:+0200
TZNAME:CEST
DTSTART:20240331T010000
END:DAYLIGHT
BEGIN:STANDARD
TZOFFSETFROM:+0200
TZOFFSETTO:+0100
TZNAME:CET
DTSTART:20241027T010000
END:STANDARD
BEGIN:DAYLIGHT
TZOFFSETFROM:+0100
TZOFFSETTO:+0200
TZNAME:CEST
DTSTART:20250330T010000
END:DAYLIGHT
BEGIN:STANDARD
TZOFFSETFROM:+0200
TZOFFSETTO:+0100
TZNAME:CET
DTSTART:20251026T010000
END:STANDARD
BEGIN:DAYLIGHT
TZOFFSETFROM:+0100
TZOFFSETTO:+0200
TZNAME:CEST
DTSTART:20260329T010000
END:DAYLIGHT
BEGIN:STANDARD
TZOFFSETFROM:+0200
TZOFFSETTO:+0100
TZNAME:CET
DTSTART:20261025T010000
END:STANDARD
END:VTIMEZONE
BEGIN:VEVENT
DTSTART;TZID=Europe/Berlin:20251015T080000
DTEND;TZID=Europe/Berlin:20251015T170000
DTSTAMP:20260421T222539
CREATED:20250927T124846Z
LAST-MODIFIED:20250927T124846Z
UID:6506-1760515200-1760547600@wandelstadt-esslingen.de
SUMMARY:Frauenwirtschaftstage 2025: Zukunft gestalten - Frauen & Männer stark als Team
DESCRIPTION:Impulsvortrag „Kommunikation zwischen den Geschlechtern im Job neu denken: Wege zu einem besseren Miteinander am Arbeitsplatz“\nvon Lilian Gehrke-Vetterkind – Diversity-Expertin\, Beraterin für Unternehmenskultur & Female Leadership und Autorin des Buchs „Frau kann Chef“ \nIn der Arbeitswelt treffen unterschiedliche Kommunikations- und Verhaltensmuster aufeinander – oft geschlechtlich geprägt\, meist unbewusst und nicht selten konfliktträchtig. Der Impulsvortrag lädt dazu ein\, gängige Missverständnisse zwischen Männern und Frauen im Business-Kontext besser zu verstehen. Er zeigt\, wie unser Schubladendenken wirkt – und wie wir es überwinden können. Für mehr Verständnis\, Empathie und ein Miteinander\, das von Respekt statt von Klischees geprägt ist. \nPodiumsdiskussion mit gemischten Teams: \nMaria Scheffner-Freund – Steuerberaterin\, Fachberaterin für das Gesundheitswesen (DStV e.V.) und Partnerin bei Bürkle & Partner Steuerberater mbB\nTobias Bürkle – Diplom-Ökonom\, Steuerberater\, Fachberater für Unternehmensnachfolge und zertifizierter Testamentsvollstrecker\, Partner bei Bürkle & Partner Steuerberater mbB \nAndreas Gebert – Gründer und Geschäftsführer der Gebert Medientechnik GmbH\, gelernter Industrieelektroniker\, zukünftiger Prüfer der IHK ES-NT\nJennifer Köhler (geb. Gebert) – Prokuristin\, Unternehmensnachfolgerin der Gebert Medientechnik GmbH\, Mitglied des Vorstandes der AV-Solution Partner e.V. und der BV IHK ES-NT \nFranziska Briem – Prokuristin\, Leitung der Qualitätssicherung\, BRIEM Speditions-GmbH\, Mitglied der BV IHK ES-NT\nMaximilian Briem – Prokurist\, Leitung der operativen Logistik\, BRIEM Speditions-GmbH \nNetzwerken: \nKommen Sie ins Gespräch und lernen Sie auf dem Markt der Möglichkeiten lokale Angebote für berufstätige Frauen kennen. \nLassen Sie sich von gemischten Teams inspirieren! \nPreis\nKostenlos
URL:https://wandelstadt-esslingen.de/event/frauenwirtschaftstage-2025-zukunft-gestalten-frauen-maenner-stark-als-team/
LOCATION:Campus Stadtmitte / Hochschule Eslingen\, Kanalstraße 33\, Esslingen\, Deutschland
ORGANIZER;CN="Referat f%C3%BCr Chancengleicheit":MAILTO:chancengleichheit@esslingen.de
END:VEVENT
END:VCALENDAR