BEGIN:VCALENDAR
VERSION:2.0
PRODID:-//Wandelstadt Esslingen - ECPv6.15.20//NONSGML v1.0//EN
CALSCALE:GREGORIAN
METHOD:PUBLISH
X-WR-CALNAME:Wandelstadt Esslingen
X-ORIGINAL-URL:https://wandelstadt-esslingen.de
X-WR-CALDESC:Veranstaltungen für Wandelstadt Esslingen
REFRESH-INTERVAL;VALUE=DURATION:PT1H
X-Robots-Tag:noindex
X-PUBLISHED-TTL:PT1H
BEGIN:VTIMEZONE
TZID:Europe/Berlin
BEGIN:DAYLIGHT
TZOFFSETFROM:+0100
TZOFFSETTO:+0200
TZNAME:CEST
DTSTART:20240331T010000
END:DAYLIGHT
BEGIN:STANDARD
TZOFFSETFROM:+0200
TZOFFSETTO:+0100
TZNAME:CET
DTSTART:20241027T010000
END:STANDARD
BEGIN:DAYLIGHT
TZOFFSETFROM:+0100
TZOFFSETTO:+0200
TZNAME:CEST
DTSTART:20250330T010000
END:DAYLIGHT
BEGIN:STANDARD
TZOFFSETFROM:+0200
TZOFFSETTO:+0100
TZNAME:CET
DTSTART:20251026T010000
END:STANDARD
BEGIN:DAYLIGHT
TZOFFSETFROM:+0100
TZOFFSETTO:+0200
TZNAME:CEST
DTSTART:20260329T010000
END:DAYLIGHT
BEGIN:STANDARD
TZOFFSETFROM:+0200
TZOFFSETTO:+0100
TZNAME:CET
DTSTART:20261025T010000
END:STANDARD
END:VTIMEZONE
BEGIN:VEVENT
DTSTART;TZID=Europe/Berlin:20250320T180000
DTEND;TZID=Europe/Berlin:20250320T210000
DTSTAMP:20260422T032240
CREATED:20250222T214720Z
LAST-MODIFIED:20250223T070633Z
UID:4299-1742493600-1742504400@wandelstadt-esslingen.de
SUMMARY:FRAUEN GRÜNDEN | KENNEN | LERNEN
DESCRIPTION:Im Rahmen der Esslinger Frauenwochen \n\n\n\n\nInformations- und Netzwerkabend \nFrauen bewegen was – auch wirtschaftlich. Als Existenzgründerinnen\, als Selbständige\, als Teil eines Start-up-Teams bringen Frauen mit innovativen Ideen Esslingen und mehr voran und schaffen sich zugleich ihre eigene Existenzgrundlage. Die Esslinger Landtagsabgeordnete Andrea Lindlohr MdL und Carmen Tittel\, Fraktionsvorsitzende der Grünen im Gemeinderat\, beschäftigen sich mit den Erfolgsfaktoren und Unterstützungsmöglichkeiten für Gründerinnen bei uns. \nTolle Vorbilder aus allen Altersgruppen geben bei unserem Austauschabend anschließend Impulse\, wecken Neugier und Mut zum Machen! Hier können alle bei Snacks und Getränken exemplarisch mit spannenden Gründerinnen und Unternehmerinnen wie u.a. Carola Epple (Virtually There)\, Ute Hertel-Vogt (webwerkerei) und Tine Bradley (Wunderwerk und Pimpinelle) zwanglos ins Gespräch kommen und sich informieren. \nReferentinnen Andrea Lindlohr MdL und Carmen Tittel \n\n\n\n\n\n\n\nPreis \nkostenlos\n\n\n\n\nHinweis \nohne Anmeldung\n\n\n\nPräsentiert von Bündnis 90/Die Grünen\, Ortsverband Esslingen und Andrea Lindlohr MdL
URL:https://wandelstadt-esslingen.de/event/frauen-gruenden-kennen-lernen/
LOCATION:Makers Inn\, Küferstraße 46\, Esslingen
CATEGORIES:Infoveranstaltung,Vernetzungsveranstaltung
END:VEVENT
END:VCALENDAR