BEGIN:VCALENDAR
VERSION:2.0
PRODID:-//Wandelstadt Esslingen - ECPv6.15.20//NONSGML v1.0//EN
CALSCALE:GREGORIAN
METHOD:PUBLISH
X-WR-CALNAME:Wandelstadt Esslingen
X-ORIGINAL-URL:https://wandelstadt-esslingen.de
X-WR-CALDESC:Veranstaltungen für Wandelstadt Esslingen
REFRESH-INTERVAL;VALUE=DURATION:PT1H
X-Robots-Tag:noindex
X-PUBLISHED-TTL:PT1H
BEGIN:VTIMEZONE
TZID:Europe/Berlin
BEGIN:DAYLIGHT
TZOFFSETFROM:+0100
TZOFFSETTO:+0200
TZNAME:CEST
DTSTART:20240331T010000
END:DAYLIGHT
BEGIN:STANDARD
TZOFFSETFROM:+0200
TZOFFSETTO:+0100
TZNAME:CET
DTSTART:20241027T010000
END:STANDARD
BEGIN:DAYLIGHT
TZOFFSETFROM:+0100
TZOFFSETTO:+0200
TZNAME:CEST
DTSTART:20250330T010000
END:DAYLIGHT
BEGIN:STANDARD
TZOFFSETFROM:+0200
TZOFFSETTO:+0100
TZNAME:CET
DTSTART:20251026T010000
END:STANDARD
BEGIN:DAYLIGHT
TZOFFSETFROM:+0100
TZOFFSETTO:+0200
TZNAME:CEST
DTSTART:20260329T010000
END:DAYLIGHT
BEGIN:STANDARD
TZOFFSETFROM:+0200
TZOFFSETTO:+0100
TZNAME:CET
DTSTART:20261025T010000
END:STANDARD
END:VTIMEZONE
BEGIN:VEVENT
DTSTART;TZID=Europe/Berlin:20250114T180000
DTEND;TZID=Europe/Berlin:20250114T180000
DTSTAMP:20260421T231305
CREATED:20241230T085851Z
LAST-MODIFIED:20241230T085851Z
UID:4057-1736877600-1736877600@wandelstadt-esslingen.de
SUMMARY:Fragen zur Heizkostenabrechung? – Wir zeigen Ihnen wie es geht!
DESCRIPTION:In Kooperation mit der Verbraucherzentrale-Energieberatung bietet die Klimaschutzagentur des Landkreises Esslingen auch im Jahr 2025 Wohneigentumsbesitzer*innen und Mieter*innen kostenfreie Beratungen und Informationen zu den Themen energieeffiziente Gebäudemodernisierung\, Heizungsoptimierung und Heizungstausch\, Solarenergie sowie Stromsparen im Haushalt an. In kostenfreien Online-Vorträgen bietet die Energieberatung der Verbraucherzentrale Baden-Württemberg einen Rundumblick über interessante Themen. Die Anmeldung und weitere Informationen finden Sie unter: \nhttps://www.verbraucherzentrale-bawue.de/energie/onlineseminare-der-energieberatung-59522
URL:https://wandelstadt-esslingen.de/event/fragen-zur-heizkostenabrechung-wir-zeigen-ihnen-wie-es-geht/
CATEGORIES:Infoveranstaltung
ORGANIZER;CN="Klimaschutzagentur des Landkreises Esslingen gGmbH":MAILTO:info@ksa-es.de
END:VEVENT
END:VCALENDAR