BEGIN:VCALENDAR
VERSION:2.0
PRODID:-//Wandelstadt Esslingen - ECPv6.15.20//NONSGML v1.0//EN
CALSCALE:GREGORIAN
METHOD:PUBLISH
X-WR-CALNAME:Wandelstadt Esslingen
X-ORIGINAL-URL:https://wandelstadt-esslingen.de
X-WR-CALDESC:Veranstaltungen für Wandelstadt Esslingen
REFRESH-INTERVAL;VALUE=DURATION:PT1H
X-Robots-Tag:noindex
X-PUBLISHED-TTL:PT1H
BEGIN:VTIMEZONE
TZID:Europe/Berlin
BEGIN:DAYLIGHT
TZOFFSETFROM:+0100
TZOFFSETTO:+0200
TZNAME:CEST
DTSTART:20240331T010000
END:DAYLIGHT
BEGIN:STANDARD
TZOFFSETFROM:+0200
TZOFFSETTO:+0100
TZNAME:CET
DTSTART:20241027T010000
END:STANDARD
BEGIN:DAYLIGHT
TZOFFSETFROM:+0100
TZOFFSETTO:+0200
TZNAME:CEST
DTSTART:20250330T010000
END:DAYLIGHT
BEGIN:STANDARD
TZOFFSETFROM:+0200
TZOFFSETTO:+0100
TZNAME:CET
DTSTART:20251026T010000
END:STANDARD
BEGIN:DAYLIGHT
TZOFFSETFROM:+0100
TZOFFSETTO:+0200
TZNAME:CEST
DTSTART:20260329T010000
END:DAYLIGHT
BEGIN:STANDARD
TZOFFSETFROM:+0200
TZOFFSETTO:+0100
TZNAME:CET
DTSTART:20261025T010000
END:STANDARD
END:VTIMEZONE
BEGIN:VEVENT
DTSTART;TZID=Europe/Berlin:20251120T180000
DTEND;TZID=Europe/Berlin:20251120T210000
DTSTAMP:20260421T203554
CREATED:20251027T172147Z
LAST-MODIFIED:20251027T172147Z
UID:6938-1763661600-1763672400@wandelstadt-esslingen.de
SUMMARY:Film und Talk - der Rhein fliesst ins Mittelmeer
DESCRIPTION:Was geschieht mit Erinnerung\, wenn sie nicht nur im Kopf\, sondern auch im Raum verankert ist? Der israelische Regisseur Offer Avnon\, Sohn eines Holocaust-Überlebenden\, lebte zehn Jahre in Deutschland\, ehe er wieder in seine Heimat zurückkehrte. In poetischen Bildern\, Gesprächen und Fragmenten reflektiert er seine Erfahrungen zwischen Rhein und Haifa und leistet – jenseits politischer Narrative – einen leisen\, tief persönlichen Beitrag zur Vergegenwärtigung eines Traumas\, das nicht vergeht\, sondern bleibt\, sich wandelt\, uns fordert.\n(IL 2021 | 95 Minuten | FSK: keine Angabe).\nIm Anschluss Talk mit dem Regisseur Offer Avnon. \nTickets unter: www.koki-es.de \nKOSTEN:\n10 € / erm. 7 €/Person \nVERANSTALTER:\nKommunales Kino Esslingen e.V.
URL:https://wandelstadt-esslingen.de/event/film-und-talk-der-rhein-fliesst-ins-mittelmeer/
LOCATION:Kommunales Kino\, Maille 4-9\, Esslingen\, 73728\, Deutschland
CATEGORIES:Kulturveranstaltung,Live-Veranstaltung
END:VEVENT
END:VCALENDAR