BEGIN:VCALENDAR
VERSION:2.0
PRODID:-//Wandelstadt Esslingen - ECPv6.15.20//NONSGML v1.0//EN
CALSCALE:GREGORIAN
METHOD:PUBLISH
X-WR-CALNAME:Wandelstadt Esslingen
X-ORIGINAL-URL:https://wandelstadt-esslingen.de
X-WR-CALDESC:Veranstaltungen für Wandelstadt Esslingen
REFRESH-INTERVAL;VALUE=DURATION:PT1H
X-Robots-Tag:noindex
X-PUBLISHED-TTL:PT1H
BEGIN:VTIMEZONE
TZID:Europe/Berlin
BEGIN:DAYLIGHT
TZOFFSETFROM:+0100
TZOFFSETTO:+0200
TZNAME:CEST
DTSTART:20240331T010000
END:DAYLIGHT
BEGIN:STANDARD
TZOFFSETFROM:+0200
TZOFFSETTO:+0100
TZNAME:CET
DTSTART:20241027T010000
END:STANDARD
BEGIN:DAYLIGHT
TZOFFSETFROM:+0100
TZOFFSETTO:+0200
TZNAME:CEST
DTSTART:20250330T010000
END:DAYLIGHT
BEGIN:STANDARD
TZOFFSETFROM:+0200
TZOFFSETTO:+0100
TZNAME:CET
DTSTART:20251026T010000
END:STANDARD
BEGIN:DAYLIGHT
TZOFFSETFROM:+0100
TZOFFSETTO:+0200
TZNAME:CEST
DTSTART:20260329T010000
END:DAYLIGHT
BEGIN:STANDARD
TZOFFSETFROM:+0200
TZOFFSETTO:+0100
TZNAME:CET
DTSTART:20261025T010000
END:STANDARD
END:VTIMEZONE
BEGIN:VEVENT
DTSTART;TZID=Europe/Berlin:20250913T100000
DTEND;TZID=Europe/Berlin:20250913T140000
DTSTAMP:20260421T183336
CREATED:20250822T083552Z
LAST-MODIFIED:20250822T083552Z
UID:6087-1757757600-1757772000@wandelstadt-esslingen.de
SUMMARY:Familienbrunch in und für die Pliensauvorstadt
DESCRIPTION:Familienbrunch in und für die Pliensauvorstadt -Engagement entwickeln\nMehrgenerationen- und Bürgerhaus (MGBH)\, Samstag\, 13. September 10-14 Uhr \n  \nEine weitere Veranstaltung im Rahmen der Bundesengagement-Woche findet am Samstag\, 13. September von 10 bis 14 Uhr im Mehrgenerationen- und Bürgerhaus\, Pliensauvorstadt statt. Eingeladen sind alle Familien\, sich bei einem gemeinsamen Brunch und zum Stadtteil Pliensauvorstadt auszutauschen. Dabei wird unter anderem diskutiert\, warum sich ein Engagement im Stadtteil lohnt und welche Angebote noch fehlen. Jede Familie bringt etwas mit für das Brunch-Bufett. Tee\, Kaffee\, Getränke und Kleinigkeiten von der Istanbulbäckerei werden vom MGBH gestiftet. Außerdem sorgt das Spielmobil auf dem Stadtteilplatz für Spaß und Spiel für die Kleinen. \nKeine Anmeldung erforderlich. Einfach vorbeikommen und dabei sein.\nOrt: Mehrgenerationen- und Bürgerhaus\, Weilstraße 8\nDatum: Samstag\, 13. September 10-14 Uhr
URL:https://wandelstadt-esslingen.de/event/familienbrunch-in-und-fuer-die-pliensauvorstadt/
LOCATION:Mehrgenerationen- und Bürgerhaus Pliensauvorstadt\, Weilstr. 8\, Esslingen am Neckar\, Baden Württemberg\, 73734\, Deutschland
CATEGORIES:Beteiligung,Gemütliches Treffen,Infoveranstaltung,Vernetzungsveranstaltung
END:VEVENT
END:VCALENDAR