BEGIN:VCALENDAR
VERSION:2.0
PRODID:-//Wandelstadt Esslingen - ECPv6.15.20//NONSGML v1.0//EN
CALSCALE:GREGORIAN
METHOD:PUBLISH
X-WR-CALNAME:Wandelstadt Esslingen
X-ORIGINAL-URL:https://wandelstadt-esslingen.de
X-WR-CALDESC:Veranstaltungen für Wandelstadt Esslingen
REFRESH-INTERVAL;VALUE=DURATION:PT1H
X-Robots-Tag:noindex
X-PUBLISHED-TTL:PT1H
BEGIN:VTIMEZONE
TZID:Europe/Berlin
BEGIN:DAYLIGHT
TZOFFSETFROM:+0100
TZOFFSETTO:+0200
TZNAME:CEST
DTSTART:20230326T010000
END:DAYLIGHT
BEGIN:STANDARD
TZOFFSETFROM:+0200
TZOFFSETTO:+0100
TZNAME:CET
DTSTART:20231029T010000
END:STANDARD
BEGIN:DAYLIGHT
TZOFFSETFROM:+0100
TZOFFSETTO:+0200
TZNAME:CEST
DTSTART:20240331T010000
END:DAYLIGHT
BEGIN:STANDARD
TZOFFSETFROM:+0200
TZOFFSETTO:+0100
TZNAME:CET
DTSTART:20241027T010000
END:STANDARD
BEGIN:DAYLIGHT
TZOFFSETFROM:+0100
TZOFFSETTO:+0200
TZNAME:CEST
DTSTART:20250330T010000
END:DAYLIGHT
BEGIN:STANDARD
TZOFFSETFROM:+0200
TZOFFSETTO:+0100
TZNAME:CET
DTSTART:20251026T010000
END:STANDARD
END:VTIMEZONE
BEGIN:VEVENT
DTSTART;TZID=Europe/Berlin:20241105T190000
DTEND;TZID=Europe/Berlin:20241105T220000
DTSTAMP:20260422T025900
CREATED:20241023T191522Z
LAST-MODIFIED:20241023T191522Z
UID:3764-1730833200-1730844000@wandelstadt-esslingen.de
SUMMARY:Esslinger Dialog mit Andrea Lindlohr: "Die Zukunft unseres Industriestandorts"
DESCRIPTION:Am Dienstag\, den 5. November 2024 findet um 19 Uhr im KOMMA in Esslingen (Maille 5-9\, 73728 Esslingen am Neckar) mein Esslinger Dialog „Die Zukunft unseres Industriestandorts“ statt. \nUnser Industriestandort verändert sich. Die Digitalisierung prägt immer mehr\, wer in Zukunft mit was Geld verdienen und gute Arbeitsplätze schaffen und erhalten kann. Klimaschonende Technologien und die Dekarbonisierung gewinnen an Bedeutung. Und welche Rolle wir in Zukunft in einem globalen Produktionsnetzwerk einnehmen\, steht angesichts neuer Strategien beispielsweise in China und den USA neu zur Diskussion. \nWas dies aktuell und zukünftig bedeutet vom Maschinenbau über die Automobilindustrie bis zu unserer ganzen Region und welche Voraussetzungen notwendig sind\, um die Herausforderungen zu meistern\, darüber diskutiere ich mit Ihnen und mit meinen spannenden Podiumsgästen: \nFranz Loogen\, Geschäftsführer der e-mobil BW GmbH – Landesagentur für neue Mobilitätslösungen und Automotive Baden-Württemberg\, \nKai Burmeister\, Vorsitzender des DGB Bezirks Baden-Württemberg\, und \nThomas Speidel\, Geschäftsführender Gesellschafter der ads-tec Holding GmbH\, Nürtingen.
URL:https://wandelstadt-esslingen.de/event/esslinger-dialog-mit-andrea-lindlohr-die-zukunft-unseres-industriestandorts/
LOCATION:KOMMA\, Maille 5-9\, Esslingen\, Deutschland
CATEGORIES:Beteiligung
END:VEVENT
END:VCALENDAR