BEGIN:VCALENDAR
VERSION:2.0
PRODID:-//Wandelstadt Esslingen - ECPv6.15.20//NONSGML v1.0//EN
CALSCALE:GREGORIAN
METHOD:PUBLISH
X-WR-CALNAME:Wandelstadt Esslingen
X-ORIGINAL-URL:https://wandelstadt-esslingen.de
X-WR-CALDESC:Veranstaltungen für Wandelstadt Esslingen
REFRESH-INTERVAL;VALUE=DURATION:PT1H
X-Robots-Tag:noindex
X-PUBLISHED-TTL:PT1H
BEGIN:VTIMEZONE
TZID:Europe/Berlin
BEGIN:DAYLIGHT
TZOFFSETFROM:+0100
TZOFFSETTO:+0200
TZNAME:CEST
DTSTART:20230326T010000
END:DAYLIGHT
BEGIN:STANDARD
TZOFFSETFROM:+0200
TZOFFSETTO:+0100
TZNAME:CET
DTSTART:20231029T010000
END:STANDARD
BEGIN:DAYLIGHT
TZOFFSETFROM:+0100
TZOFFSETTO:+0200
TZNAME:CEST
DTSTART:20240331T010000
END:DAYLIGHT
BEGIN:STANDARD
TZOFFSETFROM:+0200
TZOFFSETTO:+0100
TZNAME:CET
DTSTART:20241027T010000
END:STANDARD
BEGIN:DAYLIGHT
TZOFFSETFROM:+0100
TZOFFSETTO:+0200
TZNAME:CEST
DTSTART:20250330T010000
END:DAYLIGHT
BEGIN:STANDARD
TZOFFSETFROM:+0200
TZOFFSETTO:+0100
TZNAME:CET
DTSTART:20251026T010000
END:STANDARD
END:VTIMEZONE
BEGIN:VEVENT
DTSTART;TZID=Europe/Berlin:20240716T193000
DTEND;TZID=Europe/Berlin:20240716T193000
DTSTAMP:20260425T142349
CREATED:20240622T081056Z
LAST-MODIFIED:20240622T081056Z
UID:3137-1721158200-1721158200@wandelstadt-esslingen.de
SUMMARY:Esslingen Aufs Rad
DESCRIPTION:Das Bündnis Esslingen aufs Rad trifft sich alle 4 bis 6 Wochen\, das nächste Mal am Dienstag\, 16.07.24 um 19:30 Uhr in der Landhausstrasse 105 (bei Schulz/Grad klingeln). \nAlle unsere Treffen sind offen und wir freuen uns über neue Gesichter und Stimmen. \nNach einer Anmeldung auf dem Newsletter des Bündnis Esslingen aufs Rad erhält man neue Termine am schnellsten.
URL:https://wandelstadt-esslingen.de/event/esslingen-aufs-rad/
END:VEVENT
END:VCALENDAR