BEGIN:VCALENDAR
VERSION:2.0
PRODID:-//Wandelstadt Esslingen - ECPv6.15.20//NONSGML v1.0//EN
CALSCALE:GREGORIAN
METHOD:PUBLISH
X-WR-CALNAME:Wandelstadt Esslingen
X-ORIGINAL-URL:https://wandelstadt-esslingen.de
X-WR-CALDESC:Veranstaltungen für Wandelstadt Esslingen
REFRESH-INTERVAL;VALUE=DURATION:PT1H
X-Robots-Tag:noindex
X-PUBLISHED-TTL:PT1H
BEGIN:VTIMEZONE
TZID:Europe/Berlin
BEGIN:DAYLIGHT
TZOFFSETFROM:+0100
TZOFFSETTO:+0200
TZNAME:CEST
DTSTART:20250330T010000
END:DAYLIGHT
BEGIN:STANDARD
TZOFFSETFROM:+0200
TZOFFSETTO:+0100
TZNAME:CET
DTSTART:20251026T010000
END:STANDARD
BEGIN:DAYLIGHT
TZOFFSETFROM:+0100
TZOFFSETTO:+0200
TZNAME:CEST
DTSTART:20260329T010000
END:DAYLIGHT
BEGIN:STANDARD
TZOFFSETFROM:+0200
TZOFFSETTO:+0100
TZNAME:CET
DTSTART:20261025T010000
END:STANDARD
BEGIN:DAYLIGHT
TZOFFSETFROM:+0100
TZOFFSETTO:+0200
TZNAME:CEST
DTSTART:20270328T010000
END:DAYLIGHT
BEGIN:STANDARD
TZOFFSETFROM:+0200
TZOFFSETTO:+0100
TZNAME:CET
DTSTART:20271031T010000
END:STANDARD
END:VTIMEZONE
BEGIN:VEVENT
DTSTART;TZID=Europe/Berlin:20260314T090000
DTEND;TZID=Europe/Berlin:20260314T170000
DTSTAMP:20260421T183540
CREATED:20260224T164354Z
LAST-MODIFIED:20260224T164411Z
UID:8320-1773478800-1773507600@wandelstadt-esslingen.de
SUMMARY:ES putzt
DESCRIPTION:Esslinger Putzaktion am Samstag\, 14. März 2026 ab 9 Uhr \nSämtliche Arbeitsgeräte von den Handschuhen\, Zangen bis hin zu den Fahrzeugen und Containern stellt die Stadt Esslingen. Als Dankeschön an alle fleißigen Helfer gibt es zum Abschluss ein Vesper.\nAlle können mitmachen: Einfach hier online anmelden!
URL:https://wandelstadt-esslingen.de/event/es-putzt/
CATEGORIES:Cleanup
END:VEVENT
END:VCALENDAR