BEGIN:VCALENDAR
VERSION:2.0
PRODID:-//Wandelstadt Esslingen - ECPv6.15.20//NONSGML v1.0//EN
CALSCALE:GREGORIAN
METHOD:PUBLISH
X-WR-CALNAME:Wandelstadt Esslingen
X-ORIGINAL-URL:https://wandelstadt-esslingen.de
X-WR-CALDESC:Veranstaltungen für Wandelstadt Esslingen
REFRESH-INTERVAL;VALUE=DURATION:PT1H
X-Robots-Tag:noindex
X-PUBLISHED-TTL:PT1H
BEGIN:VTIMEZONE
TZID:Europe/Berlin
BEGIN:DAYLIGHT
TZOFFSETFROM:+0100
TZOFFSETTO:+0200
TZNAME:CEST
DTSTART:20250330T010000
END:DAYLIGHT
BEGIN:STANDARD
TZOFFSETFROM:+0200
TZOFFSETTO:+0100
TZNAME:CET
DTSTART:20251026T010000
END:STANDARD
BEGIN:DAYLIGHT
TZOFFSETFROM:+0100
TZOFFSETTO:+0200
TZNAME:CEST
DTSTART:20260329T010000
END:DAYLIGHT
BEGIN:STANDARD
TZOFFSETFROM:+0200
TZOFFSETTO:+0100
TZNAME:CET
DTSTART:20261025T010000
END:STANDARD
BEGIN:DAYLIGHT
TZOFFSETFROM:+0100
TZOFFSETTO:+0200
TZNAME:CEST
DTSTART:20270328T010000
END:DAYLIGHT
BEGIN:STANDARD
TZOFFSETFROM:+0200
TZOFFSETTO:+0100
TZNAME:CET
DTSTART:20271031T010000
END:STANDARD
END:VTIMEZONE
BEGIN:VEVENT
DTSTART;TZID=Europe/Berlin:20260310T180000
DTEND;TZID=Europe/Berlin:20260310T200000
DTSTAMP:20260421T103845
CREATED:20260224T162732Z
LAST-MODIFIED:20260224T162732Z
UID:8295-1773165600-1773172800@wandelstadt-esslingen.de
SUMMARY:Erfolg beginnt im Kopf! Power Mindset für Frauen in der VUCA -Welt
DESCRIPTION:Vortrag mit Diskussion In einer Welt voller Wandel\, Unsicherheit und Komplexität entscheidet weniger das\, was wir können\, als das\, wie wir denken\, über unseren Erfolg. Der Vortrag „ Power Mindset für Frauen “ zeigt\, wie unser Denken und unsere innere Haltung voller Selbstvertrauen\, Lernbereitschaﬅ und Selbstwirksamkeit zur wichtigsten Ressource wird. Mit inspirierenden Beispielen und praktischen Impulsen erfahren Teilnehmer:innen\, wie sie ihr Power Mindset stärken\, innere Blockaden auflösen und Herausforderungen mit Klarheit und Mut begegnen können. Für alle Frauen\, die ihre mentale Stärke aktiv gestalten und Zukunﬅ bewusst denken wollen. Referentin Dr. Hanna Fearns Expertin für Strategie\, Führung und Gender Diversity\, Geschäﬅsführerin Sophia Academia für Frauen\, Trainerin und Coach
URL:https://wandelstadt-esslingen.de/event/erfolg-beginnt-im-kopf-power-mindset-fuer-frauen-in-der-vuca-welt/
LOCATION:Kreissparkasse Esslingen | Kronensaal\, Am Kronenhof\, Esslingen
END:VEVENT
END:VCALENDAR