BEGIN:VCALENDAR
VERSION:2.0
PRODID:-//Wandelstadt Esslingen - ECPv6.15.20//NONSGML v1.0//EN
CALSCALE:GREGORIAN
METHOD:PUBLISH
X-WR-CALNAME:Wandelstadt Esslingen
X-ORIGINAL-URL:https://wandelstadt-esslingen.de
X-WR-CALDESC:Veranstaltungen für Wandelstadt Esslingen
REFRESH-INTERVAL;VALUE=DURATION:PT1H
X-Robots-Tag:noindex
X-PUBLISHED-TTL:PT1H
BEGIN:VTIMEZONE
TZID:Europe/Berlin
BEGIN:DAYLIGHT
TZOFFSETFROM:+0100
TZOFFSETTO:+0200
TZNAME:CEST
DTSTART:20240331T010000
END:DAYLIGHT
BEGIN:STANDARD
TZOFFSETFROM:+0200
TZOFFSETTO:+0100
TZNAME:CET
DTSTART:20241027T010000
END:STANDARD
BEGIN:DAYLIGHT
TZOFFSETFROM:+0100
TZOFFSETTO:+0200
TZNAME:CEST
DTSTART:20250330T010000
END:DAYLIGHT
BEGIN:STANDARD
TZOFFSETFROM:+0200
TZOFFSETTO:+0100
TZNAME:CET
DTSTART:20251026T010000
END:STANDARD
BEGIN:DAYLIGHT
TZOFFSETFROM:+0100
TZOFFSETTO:+0200
TZNAME:CEST
DTSTART:20260329T010000
END:DAYLIGHT
BEGIN:STANDARD
TZOFFSETFROM:+0200
TZOFFSETTO:+0100
TZNAME:CET
DTSTART:20261025T010000
END:STANDARD
END:VTIMEZONE
BEGIN:VEVENT
DTSTART;TZID=Europe/Berlin:20250920T100000
DTEND;TZID=Europe/Berlin:20250920T193000
DTSTAMP:20260421T235223
CREATED:20250822T084141Z
LAST-MODIFIED:20250822T084141Z
UID:6133-1758362400-1758396600@wandelstadt-esslingen.de
SUMMARY:Entspannung für Alle!
DESCRIPTION:Mittels verschiedener Elemente und Übungen aus dem Yoga beschäftigen wir uns mit Regenerierung\, unserem Nervensystem\, dem Wohlbefinden im eigenen Körper und nehmen uns die Zeit nach innen zu schauen. Gerne eigene Yoga-Matte mitbringen. \n10 – 11:15 Uhr Sanftes Yoga für Beginner*innen\nInklusiv\, für jedes Alter und mit Hilfestellung\n12 – 13 Uhr Gehmeditation und Atemübungen\nDas Gras unter den Füßen spüren und durch den Atem zur Ruhe kommen\n13 Uhr gemeinsame Mittagspause\n14:15 – 15:30 Uhr Vinyasa Flow\nMit einer kräftigenden Einheit geht es vom Kopf in den Körper\n16 – 17:30 Uhr Zuhause fühlen im eigenen Körper\nErdende Körperübungen\, Meditation und Sharing Circle\n18 – 19:30 Uhr Yin Yoga und Yoga Nidra\nEntspannung zwischen wach-sein und schlafen
URL:https://wandelstadt-esslingen.de/event/entspannung-fuer-alle/
LOCATION:Villa Merkel\, Pulverwiesen 25\, Esslingen\, 73726\, Deutschland
CATEGORIES:Live-Veranstaltung,Workshop
END:VEVENT
END:VCALENDAR