BEGIN:VCALENDAR
VERSION:2.0
PRODID:-//Wandelstadt Esslingen - ECPv6.15.20//NONSGML v1.0//EN
CALSCALE:GREGORIAN
METHOD:PUBLISH
X-WR-CALNAME:Wandelstadt Esslingen
X-ORIGINAL-URL:https://wandelstadt-esslingen.de
X-WR-CALDESC:Veranstaltungen für Wandelstadt Esslingen
REFRESH-INTERVAL;VALUE=DURATION:PT1H
X-Robots-Tag:noindex
X-PUBLISHED-TTL:PT1H
BEGIN:VTIMEZONE
TZID:Europe/Berlin
BEGIN:DAYLIGHT
TZOFFSETFROM:+0100
TZOFFSETTO:+0200
TZNAME:CEST
DTSTART:20230326T010000
END:DAYLIGHT
BEGIN:STANDARD
TZOFFSETFROM:+0200
TZOFFSETTO:+0100
TZNAME:CET
DTSTART:20231029T010000
END:STANDARD
BEGIN:DAYLIGHT
TZOFFSETFROM:+0100
TZOFFSETTO:+0200
TZNAME:CEST
DTSTART:20240331T010000
END:DAYLIGHT
BEGIN:STANDARD
TZOFFSETFROM:+0200
TZOFFSETTO:+0100
TZNAME:CET
DTSTART:20241027T010000
END:STANDARD
BEGIN:DAYLIGHT
TZOFFSETFROM:+0100
TZOFFSETTO:+0200
TZNAME:CEST
DTSTART:20250330T010000
END:DAYLIGHT
BEGIN:STANDARD
TZOFFSETFROM:+0200
TZOFFSETTO:+0100
TZNAME:CET
DTSTART:20251026T010000
END:STANDARD
END:VTIMEZONE
BEGIN:VEVENT
DTSTART;TZID=Europe/Berlin:20240214T160000
DTEND;TZID=Europe/Berlin:20240214T173000
DTSTAMP:20260422T033725
CREATED:20240127T224134Z
LAST-MODIFIED:20240127T224134Z
UID:2526-1707926400-1707931800@wandelstadt-esslingen.de
SUMMARY:Entlastungsangebote für pflegende Angehörige
DESCRIPTION:Die Familie ist der größte Pflegedienst in Deutschland\, denn immer noch werden die meisten Menschen zu Hause und durch die Familie versorgt und gepflegt. Wer seine Liebsten pflegt\, braucht Auszeiten und Unterstützung\, um wieder Kraft sammeln zu können. In einer Informationsveranstaltung des Pflegestützpunkts der Stadt Esslingen erfahren Interessierte\, welche Entlastungsangebote für pflegende Angehörige und Finanzierungsmöglichkeiten es gibt. \nDie Bandbreite der Entlastungsangebote ist vielfältig\, neben der Tages-\, Kurzzeit- und Verhinderungspflege gehören auch Betreuungs- oder Angehörigengruppen sowie Besuchsdienste dazu.   \nInteressierte erhalten Einblicke in Angebote wie beispielsweise „Ferientag für Seniorinnen und Senioren“. Während die pflegebedürftige Person tagsüber Urlaub im Hotel macht\, haben auch die pflegenden Angehörigen Zeit für Erholung und wissen ihre Liebsten gut versorgt. \nAuch der Austausch mit anderen Betroffenen kann eine wichtige Entlastung vom Alltag bedeuten. Dafür gibt es die Angehörigengruppe von Menschen mit Demenz\, deren Leiterinnen das Angebot vorstellen und für Fragen zur Verfügung stehen.   \nIm Anschluss an die Veranstaltung besteht die Gelegenheit\, die Räume der Tagespflege sowie die solitäre Kurzzeitpflege im Pflegeheim Obertor zu besichtigen.   \nDie Teilnahme ist kostenfrei. Aus organisatorischen Gründen wird um eine Anmeldung beim Pflegestützpunkt der Stadt Esslingen gebeten.   \nTelefon: 0711 3512 – 3219 oder 3512 – 3220 \nE-Mail: pflegestuetzpunkt@esslingen.de \nDas Pflegeheim Obertor ist zentral gelegen und mit öffentlichen Verkehrsmitteln gut zu erreichen. Das Parkplatzangebot ist begrenzt und nur zeitlich befristet nutzbar.
URL:https://wandelstadt-esslingen.de/event/entlastungsangebote-fuer-pflegende-angehoerige/
LOCATION:Pflegeheim Obertor\, Hindenburgstraße 8-10\, Esslingen am Neckar\, 73728\, Deutschland
END:VEVENT
END:VCALENDAR