BEGIN:VCALENDAR
VERSION:2.0
PRODID:-//Wandelstadt Esslingen - ECPv6.15.20//NONSGML v1.0//EN
CALSCALE:GREGORIAN
METHOD:PUBLISH
X-WR-CALNAME:Wandelstadt Esslingen
X-ORIGINAL-URL:https://wandelstadt-esslingen.de
X-WR-CALDESC:Veranstaltungen für Wandelstadt Esslingen
REFRESH-INTERVAL;VALUE=DURATION:PT1H
X-Robots-Tag:noindex
X-PUBLISHED-TTL:PT1H
BEGIN:VTIMEZONE
TZID:Europe/Berlin
BEGIN:DAYLIGHT
TZOFFSETFROM:+0100
TZOFFSETTO:+0200
TZNAME:CEST
DTSTART:20240331T010000
END:DAYLIGHT
BEGIN:STANDARD
TZOFFSETFROM:+0200
TZOFFSETTO:+0100
TZNAME:CET
DTSTART:20241027T010000
END:STANDARD
BEGIN:DAYLIGHT
TZOFFSETFROM:+0100
TZOFFSETTO:+0200
TZNAME:CEST
DTSTART:20250330T010000
END:DAYLIGHT
BEGIN:STANDARD
TZOFFSETFROM:+0200
TZOFFSETTO:+0100
TZNAME:CET
DTSTART:20251026T010000
END:STANDARD
BEGIN:DAYLIGHT
TZOFFSETFROM:+0100
TZOFFSETTO:+0200
TZNAME:CEST
DTSTART:20260329T010000
END:DAYLIGHT
BEGIN:STANDARD
TZOFFSETFROM:+0200
TZOFFSETTO:+0100
TZNAME:CET
DTSTART:20261025T010000
END:STANDARD
END:VTIMEZONE
BEGIN:VEVENT
DTSTART;TZID=Europe/Berlin:20251010T183000
DTEND;TZID=Europe/Berlin:20251010T183000
DTSTAMP:20260421T235807
CREATED:20250927T141412Z
LAST-MODIFIED:20250927T141433Z
UID:6542-1760121000-1760121000@wandelstadt-esslingen.de
SUMMARY:Energietour der Teckwerke Bürgerenergie Genossenschaft  – Menschen für erneuerbare Energien in Bürgerhand begeistern
DESCRIPTION:Die Teckwerke Bürgerenergie eG startet eine Veranstaltungsreihe\, um Bürger für erneuerbare Energien in Bürgerhand zu begeistern. \nUnter dem Motto „Energiewende in Bürgerhand“ möchten sie Menschen dazu ermutigen\, aktiv an der Umsetzung der Energiewende teilzunehmen und sich an nachhaltigen Energieprojekten zu beteiligen. Der Infoabend zur Energietour findet am 10. Oktober um 18:30 Uhr im Mehrgenerationenhaus in der Pliensauvorstadt statt. \nSeit ihrer Gründung im Jahr 2011 setzen sich die Teckwerke nach eigenen Angaben konsequent für eine klimafreundliche und nachhaltige Energieerzeugung in Bürgerhand ein. Ihr Engagement umfasst die Planung\, den Bau und den Betrieb von Photovoltaik-\, Windkraft- und Wasserkraftanlagen in der Region. „Ein zentraler Aspekt unserer Arbeit ist die aktive Einbindung der Bürgerinnen und Bürger in diese Projekte. Durch ihre Beteiligung können wir die Energiewende gemeinsam voranbringen und den Ausbau erneuerbarer Energien beschleunigen“\, bekräftigt Felix Denzinger\, Vorstand der Teckwerke. Die Bürger:innen wiederum profitieren über eine Dividende und können auch den Strom aus den Anlagen beziehen. Bereits ab einem Betrag von 100 Euro können Bürgerinnen und Bürger Mitglied in der Genossenschaft werden und so einen aktiven Beitrag zur Energiewende leisten. \nIm Rahmen der Energietour bieten die Teckwerke Interessierten die Möglichkeit\, sich umfassend über aktuelle und geplante Projekte der Teckwerke Bürgerenergie eG zu informieren. Dieses Jahr steht ein neues Bürgerwindprojekt in Minden im Fokus: Drei moderne Nordex N-149 Anlagen sollen sechs bestehende Windräder ersetzen und ab Herbst 2026 über 12.000 Haushalte mit sauberem Strom versorgen. Ebenso wird über spannende Photovoltaikprojekte gesprochen\, die bereits im Jahr 2025 in Betrieb genommen werden. \nMit der finanziellen Beteiligung unterstützen Sie den Bau neuer Wind- und Solaranlagen und profitieren gleichzeitig von den wirtschaftlichen Erträgen.
URL:https://wandelstadt-esslingen.de/event/energietour-der-teckwerke-buergerenergie-genossenschaft-menschen-fuer-erneuerbare-energien-in-buergerhand-begeistern/
LOCATION:Mehrgenerationen- und Bürgerhaus Pliensauvorstadt\, Weilstr. 8\, Esslingen am Neckar\, Baden Württemberg\, 73734\, Deutschland
ORGANIZER;CN="Regionalgruppe Esslingen der Teckwerke B%C3%BCrgerenergie":MAILTO:esslingen@teckwerke.de
END:VEVENT
END:VCALENDAR