BEGIN:VCALENDAR
VERSION:2.0
PRODID:-//Wandelstadt Esslingen - ECPv6.15.20//NONSGML v1.0//EN
CALSCALE:GREGORIAN
METHOD:PUBLISH
X-WR-CALNAME:Wandelstadt Esslingen
X-ORIGINAL-URL:https://wandelstadt-esslingen.de
X-WR-CALDESC:Veranstaltungen für Wandelstadt Esslingen
REFRESH-INTERVAL;VALUE=DURATION:PT1H
X-Robots-Tag:noindex
X-PUBLISHED-TTL:PT1H
BEGIN:VTIMEZONE
TZID:Europe/Berlin
BEGIN:DAYLIGHT
TZOFFSETFROM:+0100
TZOFFSETTO:+0200
TZNAME:CEST
DTSTART:20220327T010000
END:DAYLIGHT
BEGIN:STANDARD
TZOFFSETFROM:+0200
TZOFFSETTO:+0100
TZNAME:CET
DTSTART:20221030T010000
END:STANDARD
BEGIN:DAYLIGHT
TZOFFSETFROM:+0100
TZOFFSETTO:+0200
TZNAME:CEST
DTSTART:20230326T010000
END:DAYLIGHT
BEGIN:STANDARD
TZOFFSETFROM:+0200
TZOFFSETTO:+0100
TZNAME:CET
DTSTART:20231029T010000
END:STANDARD
BEGIN:DAYLIGHT
TZOFFSETFROM:+0100
TZOFFSETTO:+0200
TZNAME:CEST
DTSTART:20240331T010000
END:DAYLIGHT
BEGIN:STANDARD
TZOFFSETFROM:+0200
TZOFFSETTO:+0100
TZNAME:CET
DTSTART:20241027T010000
END:STANDARD
END:VTIMEZONE
BEGIN:VEVENT
DTSTART;TZID=Europe/Berlin:20230704T180000
DTEND;TZID=Europe/Berlin:20230704T180000
DTSTAMP:20260422T013251
CREATED:20230424T101811Z
LAST-MODIFIED:20230424T101811Z
UID:1688-1688493600-1688493600@wandelstadt-esslingen.de
SUMMARY:Energieressourcen besser nutzen – wie geht das?
DESCRIPTION:Ist eine Energiewende nur durch das Ersetzen fossiler Energien möglich? Oder sind dem Prinzip Wachstum vielleicht doch Grenzen gesetzt?  \nWissen wir eigentlich\, wo wir wie viel Energie verbrauchen? Ist das im Wesentlichen der Kühlschrank und die Heizung zu Hause? Die Welt ist auch in diesen Themen komplexer denn je geworden. Wir brauchen also zuerst ein besseres Verständnis darüber\, wo und wie wir Energie einsetzen oder tatsächlich besser „verbrauchen“. Aus dem Wissen eröffnet sich ein enorm großes Handlungspotenzial. Finden wir gemeinsam ein paar Antworten für ein besseres morgen? \nReferentin: Dipl.-Ing. Katrin Schumacher\, Prokuristin ICP Ingenieurgesellschaft
URL:https://wandelstadt-esslingen.de/event/energieressourcen-besser-nutzen-wie-geht-das/
END:VEVENT
END:VCALENDAR