BEGIN:VCALENDAR
VERSION:2.0
PRODID:-//Wandelstadt Esslingen - ECPv6.15.20//NONSGML v1.0//EN
CALSCALE:GREGORIAN
METHOD:PUBLISH
X-WR-CALNAME:Wandelstadt Esslingen
X-ORIGINAL-URL:https://wandelstadt-esslingen.de
X-WR-CALDESC:Veranstaltungen für Wandelstadt Esslingen
REFRESH-INTERVAL;VALUE=DURATION:PT1H
X-Robots-Tag:noindex
X-PUBLISHED-TTL:PT1H
BEGIN:VTIMEZONE
TZID:Europe/Berlin
BEGIN:DAYLIGHT
TZOFFSETFROM:+0100
TZOFFSETTO:+0200
TZNAME:CEST
DTSTART:20240331T010000
END:DAYLIGHT
BEGIN:STANDARD
TZOFFSETFROM:+0200
TZOFFSETTO:+0100
TZNAME:CET
DTSTART:20241027T010000
END:STANDARD
BEGIN:DAYLIGHT
TZOFFSETFROM:+0100
TZOFFSETTO:+0200
TZNAME:CEST
DTSTART:20250330T010000
END:DAYLIGHT
BEGIN:STANDARD
TZOFFSETFROM:+0200
TZOFFSETTO:+0100
TZNAME:CET
DTSTART:20251026T010000
END:STANDARD
BEGIN:DAYLIGHT
TZOFFSETFROM:+0100
TZOFFSETTO:+0200
TZNAME:CEST
DTSTART:20260329T010000
END:DAYLIGHT
BEGIN:STANDARD
TZOFFSETFROM:+0200
TZOFFSETTO:+0100
TZNAME:CET
DTSTART:20261025T010000
END:STANDARD
END:VTIMEZONE
BEGIN:VEVENT
DTSTART;TZID=Europe/Berlin:20250415T190000
DTEND;TZID=Europe/Berlin:20250415T190000
DTSTAMP:20260421T203404
CREATED:20250329T051637Z
LAST-MODIFIED:20250329T051726Z
UID:4557-1744743600-1744743600@wandelstadt-esslingen.de
SUMMARY:Energieabend zum Thema „E-Auto – ein Faktencheck“
DESCRIPTION:„E-Auto – ein Faktencheck“ \nDie Regionalgruppe Esslingen veranstaltet am 15.04. um 19 Uhr im\nMehrgenerationenhaus einen Energieabend zum Thema „E-Auto – ein Faktencheck“. \nWohin bewegen wir uns in der Verkehrswende? Welchen Beitrag kann die\nElektromobilität leisten? Wie viele E-Pkw und Ladesäulen gibt es im\nLandkreis Esslingen? Wo finde ich passende Informationen für mich als\nPrivatperson? Diese Fragen wird uns Carolin Heer\, Mobilitätsmanagerin im\nAmt für ÖPNV und Mobilität im Landratsamt Esslingen beantworten. Sie\nwird das Thema Elektromobilität und Ladeinfrastruktur in die\nVerkehrswende einordnen und die relevanten Zielsetzungen – von der\nBundes- bis zur Landkreisebene – vorstellen. \nThomas Nording von der Regionalgruppe Esslingen wird die Argumente\, die\nin der öffentlichen Diskussion kreisen wie z. B. zu geringe Reichweite\nund lange Ladezeiten\, schlechte Ladeinfrastruktur\, Risiken wie\nvorzeitige Batteriealterung und Vorbehalte hinsichtlich hoher\nCO2-Emission bei der Produktion auf den Prüfstand stellen. Doch die\nrapide technologische Weiterentwicklung der E-Autos und die zunehmende\nLangzeiterfahrung wie beispielsweise der Batterielebensdauer zeigt auch\,\ndass manches nie so kritisch war wie befürchtet. Der Vortrag soll einen\nÜberblick über den aktuellen Stand der Technik geben und damit die\nEntscheidung pro E-Auto erleichtern. \nBitte um Anmeldung unter: energie@klimagerechtigkeit-esslingen.de
URL:https://wandelstadt-esslingen.de/event/energieabend-zum-thema-e-auto-ein-faktencheck/
LOCATION:Mehrgenerationenhaus Esslingen\, Weilstraße 8\, Esslingen
ATTACH;FMTTYPE=image/jpeg:https://wandelstadt-esslingen.de/wp-content/uploads/2025/03/Energieabend-15.04.25.jpg
ORGANIZER;CN="B%C3%BCndnis f%C3%BCr Klimagerechtigkeit Esslingen":MAILTO:info@klimagerechtigkeit-esslingen.de
END:VEVENT
END:VCALENDAR