BEGIN:VCALENDAR
VERSION:2.0
PRODID:-//Wandelstadt Esslingen - ECPv6.15.20//NONSGML v1.0//EN
CALSCALE:GREGORIAN
METHOD:PUBLISH
X-WR-CALNAME:Wandelstadt Esslingen
X-ORIGINAL-URL:https://wandelstadt-esslingen.de
X-WR-CALDESC:Veranstaltungen für Wandelstadt Esslingen
REFRESH-INTERVAL;VALUE=DURATION:PT1H
X-Robots-Tag:noindex
X-PUBLISHED-TTL:PT1H
BEGIN:VTIMEZONE
TZID:Europe/Berlin
BEGIN:DAYLIGHT
TZOFFSETFROM:+0100
TZOFFSETTO:+0200
TZNAME:CEST
DTSTART:20240331T010000
END:DAYLIGHT
BEGIN:STANDARD
TZOFFSETFROM:+0200
TZOFFSETTO:+0100
TZNAME:CET
DTSTART:20241027T010000
END:STANDARD
BEGIN:DAYLIGHT
TZOFFSETFROM:+0100
TZOFFSETTO:+0200
TZNAME:CEST
DTSTART:20250330T010000
END:DAYLIGHT
BEGIN:STANDARD
TZOFFSETFROM:+0200
TZOFFSETTO:+0100
TZNAME:CET
DTSTART:20251026T010000
END:STANDARD
BEGIN:DAYLIGHT
TZOFFSETFROM:+0100
TZOFFSETTO:+0200
TZNAME:CEST
DTSTART:20260329T010000
END:DAYLIGHT
BEGIN:STANDARD
TZOFFSETFROM:+0200
TZOFFSETTO:+0100
TZNAME:CET
DTSTART:20261025T010000
END:STANDARD
END:VTIMEZONE
BEGIN:VEVENT
DTSTART;TZID=Europe/Berlin:20251127T190000
DTEND;TZID=Europe/Berlin:20251127T190000
DTSTAMP:20260421T200316
CREATED:20251029T180317Z
LAST-MODIFIED:20251029T180836Z
UID:7000-1764270000-1764270000@wandelstadt-esslingen.de
SUMMARY:Einwohnerversammlung Wäldenbronn\, Hohenkreuz\, Serach\, Obertal
DESCRIPTION:Die Einwohnerversammlungen finden alle drei Jahre statt und dauern nach Möglichkeit nicht länger als zwei Stunden. \n\n\nDer Oberbürgermeister informiert allgemein über kommunalpolitische Themen in Esslingen\, danach liegt der Schwerpunkt auf fünf Themen aus dem Bezirk. Zwei der Themen bestimmt der Bürgerausschuss\, drei weitere Themen wurden im Vorfeld online ermittelt. Die Verwaltung nimmt bei der Versammlung Stellung zu den Themen\, danach ist Zeit für den Austausch. \n\n\nAußerdem erfolgt innerhalb der Einwohnerversammlung auch der Rechenschaftsbericht des Bürgerausschusses sowie die Bekanntgabe des Wahlergebnisses der Wahl des neuen Bürgerausschusses. \n\n\nAm Ende der Versammlung können Teilnehmende über Feedback-Karten direkt Rückmeldung zur Veranstaltung geben und ggf. weitere Themen\, Hinweise oder Fragen nennen. \n\n\nTagesordnung \nVorstellung wie auch Wahl der Kandidierenden für die Bürgerausschüsse finden über das Online-Portal statt. \n\n\nWahlberechtigt sind: \n\n\n\n\nPersonen ab 16 Jahren\ndie im Gebiet des jeweiligen Bürgerausschusses wohnen\n\n\n\n\nInteressierte reichen ihre Bewerbung um eine Kandidatur sowie ein Kurzportrait auf der Online-Plattform ein\, nach Ende der Einreichungsfrist prüft die Verwaltung die Wählbarkeit der Kandidatinnen und Kandidaten. \n\n\nEtwa zwei Wochen bis wenige Tage vor der Versammlung läuft die Online-Abstimmung. Jeder Wahlberechtigte hat so viele Stimmen\, wie es Sitze im Bürgerausschuss gibt. \n\n\nDarüber hinaus kann auch vor Beginn der Einwohnerversammlung vor Ort abgestimmt werden. Wer die Abstimmung vor Ort nutzt\, muss seine Wahlberechtigung mit einem gültigen Ausweisdokument nachweisen. In der Versammlung selbst wird nur noch das Wahlergebnis bekannt gegeben.
URL:https://wandelstadt-esslingen.de/event/einwohnerversammlung-waeldenbronn-hohenkreuz-serach-obertal/
LOCATION:Hohenkreuzhalle Esslingen\, Hohenkreuzweg 34\, Esslingen
END:VEVENT
END:VCALENDAR