BEGIN:VCALENDAR
VERSION:2.0
PRODID:-//Wandelstadt Esslingen - ECPv6.15.20//NONSGML v1.0//EN
CALSCALE:GREGORIAN
METHOD:PUBLISH
X-WR-CALNAME:Wandelstadt Esslingen
X-ORIGINAL-URL:https://wandelstadt-esslingen.de
X-WR-CALDESC:Veranstaltungen für Wandelstadt Esslingen
REFRESH-INTERVAL;VALUE=DURATION:PT1H
X-Robots-Tag:noindex
X-PUBLISHED-TTL:PT1H
BEGIN:VTIMEZONE
TZID:Europe/Berlin
BEGIN:DAYLIGHT
TZOFFSETFROM:+0100
TZOFFSETTO:+0200
TZNAME:CEST
DTSTART:20240331T010000
END:DAYLIGHT
BEGIN:STANDARD
TZOFFSETFROM:+0200
TZOFFSETTO:+0100
TZNAME:CET
DTSTART:20241027T010000
END:STANDARD
BEGIN:DAYLIGHT
TZOFFSETFROM:+0100
TZOFFSETTO:+0200
TZNAME:CEST
DTSTART:20250330T010000
END:DAYLIGHT
BEGIN:STANDARD
TZOFFSETFROM:+0200
TZOFFSETTO:+0100
TZNAME:CET
DTSTART:20251026T010000
END:STANDARD
BEGIN:DAYLIGHT
TZOFFSETFROM:+0100
TZOFFSETTO:+0200
TZNAME:CEST
DTSTART:20260329T010000
END:DAYLIGHT
BEGIN:STANDARD
TZOFFSETFROM:+0200
TZOFFSETTO:+0100
TZNAME:CET
DTSTART:20261025T010000
END:STANDARD
END:VTIMEZONE
BEGIN:VEVENT
DTSTART;TZID=Europe/Berlin:20250527T200000
DTEND;TZID=Europe/Berlin:20250527T200000
DTSTAMP:20260421T202137
CREATED:20250424T172357Z
LAST-MODIFIED:20250424T172607Z
UID:4735-1748376000-1748376000@wandelstadt-esslingen.de
SUMMARY:Ein Tag ohne Frauen
DESCRIPTION:Fr | 23.05.2025 | 15.00 Uhr\n70 Minuten | FSK nicht geprüft (ab 18 Jahren freigegeben) | OmU | Specials > Kino um drei \nErmutigend\, humorvoll\, fesselnd\, inspirierend … Pünktlich zum 50. Jahrestag des großen Frauenstreiks in Island erscheint dieser Film\, von Frauen erzählt und mit witzig-spielerischen Animationen versehen. Ein einziger Tag\, der Island zum besten Land der Welt für Frauen katapultierte\, das seither Jahr für Jahr den ersten Platz auf dem Index der Geschlechterparität belegt. \nTHE DAY ICELAND STOOD STILL | 2024 | Island\, Usa | Regie& Buch: Pamela Hogan | Kamera: Helgi Felixson \n1975\, von der UN zum Internationalen Jahr der Frau ausgerufen\, verbündeten sich isländische Frauengruppen und riefen zu einem day off auf\, der über Radio- und TV-Spots beworben wurde und dem rund 90% aller isländischen Frauen folgten. Kollektiv legten sie die Arbeit in Fischfabrik\, Büro\, Schule und zu Hause nieder (nur Krankenhäuser wurden ausgeklammert). So standen große Teile der Wirtschaft still. Und die Herren der Schöpfung standen plötzlich (wenn auch für einen sehr überschaubaren Zeitrahmen) ganz allein den Niederungen des Familien- und Arbeitsalltags gegenüber und mussten die Kinder mit in die Werkstatt oder das Kontor nehmen.
URL:https://wandelstadt-esslingen.de/event/ein-tag-ohne-frauen-3/
LOCATION:Kommunales Kino\, Maille 4-9\, Esslingen\, 73728\, Deutschland
CATEGORIES:Kulturveranstaltung
END:VEVENT
END:VCALENDAR