BEGIN:VCALENDAR
VERSION:2.0
PRODID:-//Wandelstadt Esslingen - ECPv6.15.20//NONSGML v1.0//EN
CALSCALE:GREGORIAN
METHOD:PUBLISH
X-WR-CALNAME:Wandelstadt Esslingen
X-ORIGINAL-URL:https://wandelstadt-esslingen.de
X-WR-CALDESC:Veranstaltungen für Wandelstadt Esslingen
REFRESH-INTERVAL;VALUE=DURATION:PT1H
X-Robots-Tag:noindex
X-PUBLISHED-TTL:PT1H
BEGIN:VTIMEZONE
TZID:Europe/Berlin
BEGIN:DAYLIGHT
TZOFFSETFROM:+0100
TZOFFSETTO:+0200
TZNAME:CEST
DTSTART:20230326T010000
END:DAYLIGHT
BEGIN:STANDARD
TZOFFSETFROM:+0200
TZOFFSETTO:+0100
TZNAME:CET
DTSTART:20231029T010000
END:STANDARD
BEGIN:DAYLIGHT
TZOFFSETFROM:+0100
TZOFFSETTO:+0200
TZNAME:CEST
DTSTART:20240331T010000
END:DAYLIGHT
BEGIN:STANDARD
TZOFFSETFROM:+0200
TZOFFSETTO:+0100
TZNAME:CET
DTSTART:20241027T010000
END:STANDARD
BEGIN:DAYLIGHT
TZOFFSETFROM:+0100
TZOFFSETTO:+0200
TZNAME:CEST
DTSTART:20250330T010000
END:DAYLIGHT
BEGIN:STANDARD
TZOFFSETFROM:+0200
TZOFFSETTO:+0100
TZNAME:CET
DTSTART:20251026T010000
END:STANDARD
END:VTIMEZONE
BEGIN:VEVENT
DTSTART;TZID=Europe/Berlin:20241201T170000
DTEND;TZID=Europe/Berlin:20241201T170000
DTSTAMP:20260422T013715
CREATED:20241130T113624Z
LAST-MODIFIED:20241130T113702Z
UID:3902-1733072400-1733072400@wandelstadt-esslingen.de
SUMMARY:Film "Ehe im Schatten"
DESCRIPTION:Das Koki zeigt den Film „Ehe im Schatten“ im Rahmen von „Le chaim!  Jüdisches (Er)Leben in Esslingen“ \nEinführung durch Reinhold Riedel\, Denkzeichen Esslingen e. V. | in Zusammenarbeit mit Denkzeichen e. V. und der Israelitischen Religionsgemeinschaft Württemberg  \nDer DEFA-Film von 1947 ist ein erschütterndes\, zeitgeschichtlich bedeutsames und formal anspruchsvolles Filmdrama\, das auch international Anerkennung fand. \nDie Jüdin Meta Wolff und Joachim Gottschalk gehörten von 1927 bis 1929 dem Ensemble der Volksbühne Esslingen an. Sie verliebten sich\, heirateten und 1933 kam ihr Sohn Michael zur Welt. 1941 nahmen sie sich nach langen Jahren nationalsozialistischer Diffamierungen und Tyrannei das Leben. Das Filmdrama von 1947 beruht lose auf der Geschichte der Familie Gottschalk\, für die im November 2024 vor der heutigen Württembergischen Landesbühne drei Stolpersteine verlegt werden.
URL:https://wandelstadt-esslingen.de/event/ehe-im-schatten/
LOCATION:Kommunales Kino\, Maille 4-9\, Esslingen\, 73728\, Deutschland
CATEGORIES:Kulturveranstaltung
END:VEVENT
END:VCALENDAR