BEGIN:VCALENDAR
VERSION:2.0
PRODID:-//Wandelstadt Esslingen - ECPv6.15.20//NONSGML v1.0//EN
CALSCALE:GREGORIAN
METHOD:PUBLISH
X-WR-CALNAME:Wandelstadt Esslingen
X-ORIGINAL-URL:https://wandelstadt-esslingen.de
X-WR-CALDESC:Veranstaltungen für Wandelstadt Esslingen
REFRESH-INTERVAL;VALUE=DURATION:PT1H
X-Robots-Tag:noindex
X-PUBLISHED-TTL:PT1H
BEGIN:VTIMEZONE
TZID:Europe/Berlin
BEGIN:DAYLIGHT
TZOFFSETFROM:+0100
TZOFFSETTO:+0200
TZNAME:CEST
DTSTART:20230326T010000
END:DAYLIGHT
BEGIN:STANDARD
TZOFFSETFROM:+0200
TZOFFSETTO:+0100
TZNAME:CET
DTSTART:20231029T010000
END:STANDARD
BEGIN:DAYLIGHT
TZOFFSETFROM:+0100
TZOFFSETTO:+0200
TZNAME:CEST
DTSTART:20240331T010000
END:DAYLIGHT
BEGIN:STANDARD
TZOFFSETFROM:+0200
TZOFFSETTO:+0100
TZNAME:CET
DTSTART:20241027T010000
END:STANDARD
BEGIN:DAYLIGHT
TZOFFSETFROM:+0100
TZOFFSETTO:+0200
TZNAME:CEST
DTSTART:20250330T010000
END:DAYLIGHT
BEGIN:STANDARD
TZOFFSETFROM:+0200
TZOFFSETTO:+0100
TZNAME:CET
DTSTART:20251026T010000
END:STANDARD
END:VTIMEZONE
BEGIN:VEVENT
DTSTART;TZID=Europe/Berlin:20241206T153000
DTEND;TZID=Europe/Berlin:20241206T153000
DTSTAMP:20260421T230402
CREATED:20240828T172450Z
LAST-MODIFIED:20240828T172450Z
UID:10003987-1733499000-1733499000@wandelstadt-esslingen.de
SUMMARY:Drum Circle
DESCRIPTION:in der Seniorenresidenz Charlottenhof\n– Rhythmus verbindet – Ein Trommelerlebnis zum Mitmachen \nTermine: \n\n6. September\n18. Oktober\n8. November\n6. Dezember\n\nJeweils 15.30 Uhr im Festsaal \nWir machen Musik mit Trommeln und Percussion-Instrumenten.\nGanz spontan und ohne Leistungsanspruch.\nJeder kann mitmachen\, denn es werden keine Vorerfahrungen benötigt. Von Jung bis Alt sind alle herzlich willkommen. \nEin Ort für Begegnungen und musikalisches Miteinander!
URL:https://wandelstadt-esslingen.de/event/drum-circle/2024-12-06/
LOCATION:Seniorenresidenz Charlottenhof\, Plochinger Straße 21-27\, Esslingen\, 73730
CATEGORIES:Gemütliches Treffen,Kulturveranstaltung
END:VEVENT
END:VCALENDAR