BEGIN:VCALENDAR
VERSION:2.0
PRODID:-//Wandelstadt Esslingen - ECPv6.15.20//NONSGML v1.0//EN
CALSCALE:GREGORIAN
METHOD:PUBLISH
X-WR-CALNAME:Wandelstadt Esslingen
X-ORIGINAL-URL:https://wandelstadt-esslingen.de
X-WR-CALDESC:Veranstaltungen für Wandelstadt Esslingen
REFRESH-INTERVAL;VALUE=DURATION:PT1H
X-Robots-Tag:noindex
X-PUBLISHED-TTL:PT1H
BEGIN:VTIMEZONE
TZID:Europe/Berlin
BEGIN:DAYLIGHT
TZOFFSETFROM:+0100
TZOFFSETTO:+0200
TZNAME:CEST
DTSTART:20240331T010000
END:DAYLIGHT
BEGIN:STANDARD
TZOFFSETFROM:+0200
TZOFFSETTO:+0100
TZNAME:CET
DTSTART:20241027T010000
END:STANDARD
BEGIN:DAYLIGHT
TZOFFSETFROM:+0100
TZOFFSETTO:+0200
TZNAME:CEST
DTSTART:20250330T010000
END:DAYLIGHT
BEGIN:STANDARD
TZOFFSETFROM:+0200
TZOFFSETTO:+0100
TZNAME:CET
DTSTART:20251026T010000
END:STANDARD
BEGIN:DAYLIGHT
TZOFFSETFROM:+0100
TZOFFSETTO:+0200
TZNAME:CEST
DTSTART:20260329T010000
END:DAYLIGHT
BEGIN:STANDARD
TZOFFSETFROM:+0200
TZOFFSETTO:+0100
TZNAME:CET
DTSTART:20261025T010000
END:STANDARD
END:VTIMEZONE
BEGIN:VEVENT
DTSTART;TZID=Europe/Berlin:20250722T190000
DTEND;TZID=Europe/Berlin:20250722T200000
DTSTAMP:20260422T070843
CREATED:20250625T190727Z
LAST-MODIFIED:20250625T190727Z
UID:5586-1753210800-1753214400@wandelstadt-esslingen.de
SUMMARY:Die Zeit in der wir leben - indigene Botschaften zur aktuellen Zeit
DESCRIPTION:Wir leben in herausfordernden Zeiten. Klimawandel\, Krieg und das Gefühl von Kollaps versetzen uns in einen Dauer-Krisenmodus.\nIndigene Völker haben die Umwälzungen unserer Zeit lange vorhergesehen und haben klare Botschaften und kraftvolle Inspirationen für uns in diesen Zeiten. \nIn diesem kostenfreien Gesprächsabend vermittelt Corinna Bürger de Oliveira von sereia Naturspiritualität diese wertvollen Botschaften nach bestem Wissen und Gewissen mit kulturellem Feingefühl und tiefer Dankbarkeit. \nAnmeldung kostenfrei auf Eventbrite
URL:https://wandelstadt-esslingen.de/event/die-zeit-in-der-wir-leben-indigene-botschaften-zur-aktuellen-zeit/
LOCATION:via Zoom
CATEGORIES:Gemütliches Treffen,Infoveranstaltung,Kulturveranstaltung,Workshop
END:VEVENT
END:VCALENDAR