BEGIN:VCALENDAR
VERSION:2.0
PRODID:-//Wandelstadt Esslingen - ECPv6.15.20//NONSGML v1.0//EN
CALSCALE:GREGORIAN
METHOD:PUBLISH
X-WR-CALNAME:Wandelstadt Esslingen
X-ORIGINAL-URL:https://wandelstadt-esslingen.de
X-WR-CALDESC:Veranstaltungen für Wandelstadt Esslingen
REFRESH-INTERVAL;VALUE=DURATION:PT1H
X-Robots-Tag:noindex
X-PUBLISHED-TTL:PT1H
BEGIN:VTIMEZONE
TZID:Europe/Berlin
BEGIN:DAYLIGHT
TZOFFSETFROM:+0100
TZOFFSETTO:+0200
TZNAME:CEST
DTSTART:20240331T010000
END:DAYLIGHT
BEGIN:STANDARD
TZOFFSETFROM:+0200
TZOFFSETTO:+0100
TZNAME:CET
DTSTART:20241027T010000
END:STANDARD
BEGIN:DAYLIGHT
TZOFFSETFROM:+0100
TZOFFSETTO:+0200
TZNAME:CEST
DTSTART:20250330T010000
END:DAYLIGHT
BEGIN:STANDARD
TZOFFSETFROM:+0200
TZOFFSETTO:+0100
TZNAME:CET
DTSTART:20251026T010000
END:STANDARD
BEGIN:DAYLIGHT
TZOFFSETFROM:+0100
TZOFFSETTO:+0200
TZNAME:CEST
DTSTART:20260329T010000
END:DAYLIGHT
BEGIN:STANDARD
TZOFFSETFROM:+0200
TZOFFSETTO:+0100
TZNAME:CET
DTSTART:20261025T010000
END:STANDARD
END:VTIMEZONE
BEGIN:VEVENT
DTSTART;TZID=Europe/Berlin:20251104T180000
DTEND;TZID=Europe/Berlin:20251104T180000
DTSTAMP:20260421T195855
CREATED:20251029T174352Z
LAST-MODIFIED:20251029T174352Z
UID:6988-1762279200-1762279200@wandelstadt-esslingen.de
SUMMARY:Die Wärmewende in Ihrem Zuhause
DESCRIPTION:Expertinnen und Experten der Verbraucherzentrale beantworten alle offenen Fragen rund um Gebäudesanierung\, Wärmepumpe und mehr. Die Stadtwerke Esslingen informieren über den bereits laufenden Ausbau des Fernwärmenetzes in Esslingen.
URL:https://wandelstadt-esslingen.de/event/die-waermewende-in-ihrem-zuhause/
LOCATION:Salemer Pfleghof\, Untere Beautau 8 – 10\, Esslingen am Neckar\, 73728\, Deutschland
END:VEVENT
END:VCALENDAR