BEGIN:VCALENDAR
VERSION:2.0
PRODID:-//Wandelstadt Esslingen - ECPv6.15.20//NONSGML v1.0//EN
CALSCALE:GREGORIAN
METHOD:PUBLISH
X-WR-CALNAME:Wandelstadt Esslingen
X-ORIGINAL-URL:https://wandelstadt-esslingen.de
X-WR-CALDESC:Veranstaltungen für Wandelstadt Esslingen
REFRESH-INTERVAL;VALUE=DURATION:PT1H
X-Robots-Tag:noindex
X-PUBLISHED-TTL:PT1H
BEGIN:VTIMEZONE
TZID:Europe/Berlin
BEGIN:DAYLIGHT
TZOFFSETFROM:+0100
TZOFFSETTO:+0200
TZNAME:CEST
DTSTART:20240331T010000
END:DAYLIGHT
BEGIN:STANDARD
TZOFFSETFROM:+0200
TZOFFSETTO:+0100
TZNAME:CET
DTSTART:20241027T010000
END:STANDARD
BEGIN:DAYLIGHT
TZOFFSETFROM:+0100
TZOFFSETTO:+0200
TZNAME:CEST
DTSTART:20250330T010000
END:DAYLIGHT
BEGIN:STANDARD
TZOFFSETFROM:+0200
TZOFFSETTO:+0100
TZNAME:CET
DTSTART:20251026T010000
END:STANDARD
BEGIN:DAYLIGHT
TZOFFSETFROM:+0100
TZOFFSETTO:+0200
TZNAME:CEST
DTSTART:20260329T010000
END:DAYLIGHT
BEGIN:STANDARD
TZOFFSETFROM:+0200
TZOFFSETTO:+0100
TZNAME:CET
DTSTART:20261025T010000
END:STANDARD
END:VTIMEZONE
BEGIN:VEVENT
DTSTART;TZID=Europe/Berlin:20251118T190000
DTEND;TZID=Europe/Berlin:20251118T210000
DTSTAMP:20260421T221834
CREATED:20251027T113036Z
LAST-MODIFIED:20251027T113144Z
UID:6869-1763492400-1763499600@wandelstadt-esslingen.de
SUMMARY:Die smarte Etagen-Wärmepumpe
DESCRIPTION:Die Regionalgruppe Esslingen der Teckwerke Bürgerenergie lädt ein zum nächsten Energieabend am 18. November um 19 Uhr im Mehrgenerationenhaus in der Pliensauvorstadt. Unter dem Titel „Die Etagen-Wärmepumpe – der 1:1-Ersatz für die Gasetagenheizung“ wird gezeigt\, wie Wohnungen klimafreundlich mit vorhandenen Heizkörpern beheizt werden können. Die Technik kann CO₂-Emissionen reduzieren und erfüllt die Anforderungen des Gebäudeenergiegesetzes. Eine Wohnung ist einzeln und unabhängig von den anderen Wohnungen im Haus umrüstbar. \nDie Vorteile mit der Etagen-Wärmepumpe: 25 Prozent im Betrieb ca. günstiger als eine Gasetagenheizung\, bis 70 Prozent staatliche Förderung sind möglich und die Vorgaben gemäß Gebäudeenergiegesetz werden erfüllt. Die Veranstaltung zeigt Chancen für den Gebäudebestand und bietet Raum für Fragen. \nBitte um Anmeldung unter: energie@klimagerechtigkeit-esslingen.de
URL:https://wandelstadt-esslingen.de/event/die-smarte-etagen-waermepumpe/
LOCATION:Mehrgenerationen- und Bürgerhaus Pliensauvorstadt\, Weilstr. 8\, Esslingen am Neckar\, Baden Württemberg\, 73734\, Deutschland
CATEGORIES:Infoveranstaltung
ATTACH;FMTTYPE=image/jpeg:https://wandelstadt-esslingen.de/wp-content/uploads/2025/10/Kopie-von-Kopie-von-Kopie-von-Kopie-von-Gelb-Schwarz-Modern-Fettgedruckt-Junggesellenabschied-Termin-vormerken-Einladung-5.jpg
ORGANIZER;CN="Regionalgruppe Esslingen der Teckwerke B%C3%BCrgerenergie":MAILTO:esslingen@teckwerke.de
END:VEVENT
END:VCALENDAR