BEGIN:VCALENDAR
VERSION:2.0
PRODID:-//Wandelstadt Esslingen - ECPv6.15.20//NONSGML v1.0//EN
CALSCALE:GREGORIAN
METHOD:PUBLISH
X-WR-CALNAME:Wandelstadt Esslingen
X-ORIGINAL-URL:https://wandelstadt-esslingen.de
X-WR-CALDESC:Veranstaltungen für Wandelstadt Esslingen
REFRESH-INTERVAL;VALUE=DURATION:PT1H
X-Robots-Tag:noindex
X-PUBLISHED-TTL:PT1H
BEGIN:VTIMEZONE
TZID:Europe/Berlin
BEGIN:DAYLIGHT
TZOFFSETFROM:+0100
TZOFFSETTO:+0200
TZNAME:CEST
DTSTART:20250330T010000
END:DAYLIGHT
BEGIN:STANDARD
TZOFFSETFROM:+0200
TZOFFSETTO:+0100
TZNAME:CET
DTSTART:20251026T010000
END:STANDARD
BEGIN:DAYLIGHT
TZOFFSETFROM:+0100
TZOFFSETTO:+0200
TZNAME:CEST
DTSTART:20260329T010000
END:DAYLIGHT
BEGIN:STANDARD
TZOFFSETFROM:+0200
TZOFFSETTO:+0100
TZNAME:CET
DTSTART:20261025T010000
END:STANDARD
BEGIN:DAYLIGHT
TZOFFSETFROM:+0100
TZOFFSETTO:+0200
TZNAME:CEST
DTSTART:20270328T010000
END:DAYLIGHT
BEGIN:STANDARD
TZOFFSETFROM:+0200
TZOFFSETTO:+0100
TZNAME:CET
DTSTART:20271031T010000
END:STANDARD
END:VTIMEZONE
BEGIN:VEVENT
DTSTART;TZID=Europe/Berlin:20260117T200000
DTEND;TZID=Europe/Berlin:20260117T220000
DTSTAMP:20260421T203403
CREATED:20260102T114435Z
LAST-MODIFIED:20260102T114523Z
UID:10008182-1768680000-1768687200@wandelstadt-esslingen.de
SUMMARY:Der Herr Karl - mit Gerhard Polacek
DESCRIPTION:Der Herr Karl\, von Merz/Qualtinger \nMit: Gerhard Polacek \nRegie: Felix Jeiter \nEine Produktion des Künstlerkollektivs „Die Versponnenen“. Der Monolog erzählt die Lebensgeschichte eines Opportunisten\, eines Wendehalses: er war Sozialist\, Christdemokrat\, Austrofaschist\, Nazi\, freut sich über die Besetzung durch die Russen und Amerikaner\, fühlt sich mitverantwortlich für die Befreiung Österreichs und die Wiedererlangung der Demokratie. Er selbst schätzt sich als „Mann von Welt“ ein\, zeigt sich aber seinen Mitmenschen gegenüber als ein skrupelloser Profiteur\, ein Drückeberger\, ein kaltherziger Kleinbürger.
URL:https://wandelstadt-esslingen.de/event/der-herr-karl-mit-gerhard-polacek/2026-01-17/
LOCATION:Alte Spinnerei\, Maille 3\, Esslingen am Neckar\, 73728\, Deutschland
CATEGORIES:Kulturveranstaltung,Live-Veranstaltung
END:VEVENT
END:VCALENDAR