BEGIN:VCALENDAR
VERSION:2.0
PRODID:-//Wandelstadt Esslingen - ECPv6.15.20//NONSGML v1.0//EN
CALSCALE:GREGORIAN
METHOD:PUBLISH
X-WR-CALNAME:Wandelstadt Esslingen
X-ORIGINAL-URL:https://wandelstadt-esslingen.de
X-WR-CALDESC:Veranstaltungen für Wandelstadt Esslingen
REFRESH-INTERVAL;VALUE=DURATION:PT1H
X-Robots-Tag:noindex
X-PUBLISHED-TTL:PT1H
BEGIN:VTIMEZONE
TZID:Europe/Berlin
BEGIN:DAYLIGHT
TZOFFSETFROM:+0100
TZOFFSETTO:+0200
TZNAME:CEST
DTSTART:20230326T010000
END:DAYLIGHT
BEGIN:STANDARD
TZOFFSETFROM:+0200
TZOFFSETTO:+0100
TZNAME:CET
DTSTART:20231029T010000
END:STANDARD
BEGIN:DAYLIGHT
TZOFFSETFROM:+0100
TZOFFSETTO:+0200
TZNAME:CEST
DTSTART:20240331T010000
END:DAYLIGHT
BEGIN:STANDARD
TZOFFSETFROM:+0200
TZOFFSETTO:+0100
TZNAME:CET
DTSTART:20241027T010000
END:STANDARD
BEGIN:DAYLIGHT
TZOFFSETFROM:+0100
TZOFFSETTO:+0200
TZNAME:CEST
DTSTART:20250330T010000
END:DAYLIGHT
BEGIN:STANDARD
TZOFFSETFROM:+0200
TZOFFSETTO:+0100
TZNAME:CET
DTSTART:20251026T010000
END:STANDARD
END:VTIMEZONE
BEGIN:VEVENT
DTSTART;TZID=Europe/Berlin:20240203T110000
DTEND;TZID=Europe/Berlin:20240203T123000
DTSTAMP:20260422T052244
CREATED:20240115T131419Z
LAST-MODIFIED:20240115T131419Z
UID:2446-1706958000-1706963400@wandelstadt-esslingen.de
SUMMARY:Demokratie in Gefahr. Mahnwache für Demokratie und gegen den Rechtsruck
DESCRIPTION:Liebe Freunde\, liebe Aktivisti\, liebe Demokratiefreunde\, \nwas inzwischen an Rohheit\, Dummheit\, Aggression\, Ausländerfeindlichkeit\, Hass offen gezeigt wird erschreckt mich zutiefst. Politiker klagen\, die Demokratie sei in Gefahr\, geschehen tut – NICHTS. Die AFD jubelt sich zur absoluten Mehrheit hoch\, die CDU/CSU unterstützt mit ähnlich dumpfen Parolen\, Bauern fahren mit Galgen am Traktor zu Protesten und Herr Habeck darf sich nirgends mehr sicher fühlen. „Umvolkung“ macht die Runde\, Ausländer raus nach Afrika\, gerne dann auch Homosexuelle\, Behinderte\, Störer… \nHatten wir das nicht alles schon?? Haben wir wirklich nichts gelernt?? Darf sich der braune Mob so sicher fühlen\, ist das wirklich das Ende eines friedlichen Zusammenlebens\, das Ende der demokratischen Kultur?? \nLiebe Freunde\, das alles treibt mich sehr um\, lässt mich nicht mehr schlafen. Ich denke\, jetzt ist der Zeitpunkt um Flagge zeigen\, sich offen zur Demokratie und gegen den braunen Sumpf zu bekennen. Ich möchte am \nSamstag\, den     3. Februar 2024  von 11.00 bis 12.30 Uhr \nin Esslingen eine Mahnwache anmelden. Als Bürger dieses Landes. Bündnisse\, Organisationen\, Parteien\, was und wer auch immer\, die GEGEN den Rechtsruck und für Freiheit und Demokratie sind\,  sind  willkommen. \nSchweigend\, eine Kerze (für Licht in dieser schwarzbraunen Finsternis) und gerne  ein Pappschild. \nFühlt sich jemand aufgerufen\, dabei zu sein? Gibt es noch weitere Menschen\, die ähnliche Ängste haben\, die auch nicht mehr „die schweigende Mehrheit“ sein möchten? In Dortmund waren es 2.400 Menschen\, die nicht mehr tatenlos zuschauen möchten\, wie unser Land „übernommen“ wird. Dann kommt dazu\, schön wäre es\, wenn Ihr Ideen einbringt. Wer ist dabei? \nTeilt das gerne\, je mehr Menschen da stehen\, desto sichtbarer wird\, dass wir nicht bereit sind\, der AFD und der rechten Szene das Feld zu überlassen. \nMiteinander statt gegeneinander\, gemeinsam Lösungen finden statt Unliebsames ausrotten!
URL:https://wandelstadt-esslingen.de/event/demokratie-in-gefahr-mahnwache-fuer-demokratie-und-gegen-den-rechtsruck/
END:VEVENT
END:VCALENDAR