BEGIN:VCALENDAR
VERSION:2.0
PRODID:-//Wandelstadt Esslingen - ECPv6.15.20//NONSGML v1.0//EN
CALSCALE:GREGORIAN
METHOD:PUBLISH
X-WR-CALNAME:Wandelstadt Esslingen
X-ORIGINAL-URL:https://wandelstadt-esslingen.de
X-WR-CALDESC:Veranstaltungen für Wandelstadt Esslingen
REFRESH-INTERVAL;VALUE=DURATION:PT1H
X-Robots-Tag:noindex
X-PUBLISHED-TTL:PT1H
BEGIN:VTIMEZONE
TZID:Europe/Berlin
BEGIN:DAYLIGHT
TZOFFSETFROM:+0100
TZOFFSETTO:+0200
TZNAME:CEST
DTSTART:20240331T010000
END:DAYLIGHT
BEGIN:STANDARD
TZOFFSETFROM:+0200
TZOFFSETTO:+0100
TZNAME:CET
DTSTART:20241027T010000
END:STANDARD
BEGIN:DAYLIGHT
TZOFFSETFROM:+0100
TZOFFSETTO:+0200
TZNAME:CEST
DTSTART:20250330T010000
END:DAYLIGHT
BEGIN:STANDARD
TZOFFSETFROM:+0200
TZOFFSETTO:+0100
TZNAME:CET
DTSTART:20251026T010000
END:STANDARD
BEGIN:DAYLIGHT
TZOFFSETFROM:+0100
TZOFFSETTO:+0200
TZNAME:CEST
DTSTART:20260329T010000
END:DAYLIGHT
BEGIN:STANDARD
TZOFFSETFROM:+0200
TZOFFSETTO:+0100
TZNAME:CET
DTSTART:20261025T010000
END:STANDARD
END:VTIMEZONE
BEGIN:VEVENT
DTSTART;TZID=Europe/Berlin:20251213T200000
DTEND;TZID=Europe/Berlin:20251213T220000
DTSTAMP:20260421T213237
CREATED:20251123T182307Z
LAST-MODIFIED:20251123T182307Z
UID:7234-1765656000-1765663200@wandelstadt-esslingen.de
SUMMARY:Dead & Alive - Demokratie Poetry Slam
DESCRIPTION:Eintritt frei – keine Reservierung notwendig!  Spenden erbeten \nWenn Worte Leben atmen – und Tote wieder sprechen.\nBeim Dead & Alive Demokratie Poetry Slam treffen die Stimmen der Gegenwart auf die Geister der Vergangenheit. Zeitgenössische Poetinnen und Poeten treten an gegen die großen Literaten\, die längst Geschichte sind – doch deren Worte zur Demokratie aktueller klingen denn je. \nIn leidenschaftlichen\, witzigen und nachdenklichen Texten wird um die Macht der Sprache\, Freiheit und Mitbestimmung gerungen. Das Publikum hat das letzte Wort: Wer überzeugt mit Wortkunst\, Haltung und Herz? \nEin Abend zwischen Klassik und Gegenwart\, Revolution und Reim\, Pathos und Pointe – lebendig\, laut und demokratisch. \nEintritt frei – Klingelbeutel geht rum für Spenden.
URL:https://wandelstadt-esslingen.de/event/dead-alive-demokratie-poetry-slam/
LOCATION:Kunstdruck Centraltheater\, Rossmarkt 9\, Esslingen
END:VEVENT
END:VCALENDAR