BEGIN:VCALENDAR
VERSION:2.0
PRODID:-//Wandelstadt Esslingen - ECPv6.15.20//NONSGML v1.0//EN
CALSCALE:GREGORIAN
METHOD:PUBLISH
X-WR-CALNAME:Wandelstadt Esslingen
X-ORIGINAL-URL:https://wandelstadt-esslingen.de
X-WR-CALDESC:Veranstaltungen für Wandelstadt Esslingen
REFRESH-INTERVAL;VALUE=DURATION:PT1H
X-Robots-Tag:noindex
X-PUBLISHED-TTL:PT1H
BEGIN:VTIMEZONE
TZID:Europe/Berlin
BEGIN:DAYLIGHT
TZOFFSETFROM:+0100
TZOFFSETTO:+0200
TZNAME:CEST
DTSTART:20240331T010000
END:DAYLIGHT
BEGIN:STANDARD
TZOFFSETFROM:+0200
TZOFFSETTO:+0100
TZNAME:CET
DTSTART:20241027T010000
END:STANDARD
BEGIN:DAYLIGHT
TZOFFSETFROM:+0100
TZOFFSETTO:+0200
TZNAME:CEST
DTSTART:20250330T010000
END:DAYLIGHT
BEGIN:STANDARD
TZOFFSETFROM:+0200
TZOFFSETTO:+0100
TZNAME:CET
DTSTART:20251026T010000
END:STANDARD
BEGIN:DAYLIGHT
TZOFFSETFROM:+0100
TZOFFSETTO:+0200
TZNAME:CEST
DTSTART:20260329T010000
END:DAYLIGHT
BEGIN:STANDARD
TZOFFSETFROM:+0200
TZOFFSETTO:+0100
TZNAME:CET
DTSTART:20261025T010000
END:STANDARD
END:VTIMEZONE
BEGIN:VEVENT
DTSTART;TZID=Europe/Berlin:20251029T193000
DTEND;TZID=Europe/Berlin:20251029T213000
DTSTAMP:20260421T134308
CREATED:20250927T130858Z
LAST-MODIFIED:20250927T130858Z
UID:6516-1761766200-1761773400@wandelstadt-esslingen.de
SUMMARY:Das philosophische Café: Mitgefühl\, Empathie\, Sehnsucht
DESCRIPTION:Empathie\, also die Fähigkeit\, am anderen Menschen seelisch teilzunehmen\, ist die Grundvoraussetzung aller Moral. Interessanterweise finden sich empathische Fähigkeiten auch in der Tierwelt. Die politische Krise des Liberalismus bringt an den Tag\, welch großes soziales Kapital das Vertrauen ist. Vertrauen weitet die Seele\, Misstrauen verengt sie. Und mit der Sehnsucht setzt der Mensch über spröde Realitäten: Sie verleiht unserer Fantasie die Flügel und lässt uns wachsen\, kreativ sein\, träumen. \nIm philosophischen Café erzählt Philosoph und Autor Peter Vollbrecht von Themen\, die die Denker:innen seit der Antike beschäftigen\, erklärt aktuelle gesellschaftspolitische Debatten und regt die Teilnehmer:innen dazu an\, ihre eigenen Gedanken in Worte zu fassen. Zu allen Themen der Staffel hat Peter Vollbrecht Texte aus Philosophie\, Literatur und Kunstgeschichte zusammengestellt\, die als Textsammlungen zu Beginn ausgehändigt werden. \nPreis:\n8 €\nHinweis:\nkostenfrei für Kulturpass-Inhaber:innen
URL:https://wandelstadt-esslingen.de/event/das-philosophische-cafe-mitgefuehl-empathie-sehnsucht/
END:VEVENT
END:VCALENDAR