BEGIN:VCALENDAR
VERSION:2.0
PRODID:-//Wandelstadt Esslingen - ECPv6.15.20//NONSGML v1.0//EN
CALSCALE:GREGORIAN
METHOD:PUBLISH
X-WR-CALNAME:Wandelstadt Esslingen
X-ORIGINAL-URL:https://wandelstadt-esslingen.de
X-WR-CALDESC:Veranstaltungen für Wandelstadt Esslingen
REFRESH-INTERVAL;VALUE=DURATION:PT1H
X-Robots-Tag:noindex
X-PUBLISHED-TTL:PT1H
BEGIN:VTIMEZONE
TZID:Europe/Berlin
BEGIN:DAYLIGHT
TZOFFSETFROM:+0100
TZOFFSETTO:+0200
TZNAME:CEST
DTSTART:20250330T010000
END:DAYLIGHT
BEGIN:STANDARD
TZOFFSETFROM:+0200
TZOFFSETTO:+0100
TZNAME:CET
DTSTART:20251026T010000
END:STANDARD
BEGIN:DAYLIGHT
TZOFFSETFROM:+0100
TZOFFSETTO:+0200
TZNAME:CEST
DTSTART:20260329T010000
END:DAYLIGHT
BEGIN:STANDARD
TZOFFSETFROM:+0200
TZOFFSETTO:+0100
TZNAME:CET
DTSTART:20261025T010000
END:STANDARD
BEGIN:DAYLIGHT
TZOFFSETFROM:+0100
TZOFFSETTO:+0200
TZNAME:CEST
DTSTART:20270328T010000
END:DAYLIGHT
BEGIN:STANDARD
TZOFFSETFROM:+0200
TZOFFSETTO:+0100
TZNAME:CET
DTSTART:20271031T010000
END:STANDARD
END:VTIMEZONE
BEGIN:VEVENT
DTSTART;TZID=Europe/Berlin:20260506T193000
DTEND;TZID=Europe/Berlin:20260506T210000
DTSTAMP:20260425T060805
CREATED:20260424T172358Z
LAST-MODIFIED:20260424T172358Z
UID:8851-1778095800-1778101200@wandelstadt-esslingen.de
SUMMARY:Das philosophische Café - Geopolitische Räume und Epochenzeiten
DESCRIPTION:Raum & Zeit kulturell: Geopolitische Räume und Epochenzeiten \nImmer schon ging es politischer Macht um die Beherrschung und Erweiterung von Territorium. Mit den neuen nautischen Fähigkeiten seit der Renaissance entstand Geopolitik. Die Welt wird aufgeteilt im Auf und Ab der Weltmächte. Dabei ist und bleibt der Raum eine knappe Ressource\, er lässt sich nicht beliebig vermehren. \nGanz anders dagegen das kulturelle Leben der Menschheit. Da multiplizieren und verdichten sich die Aktivitäten in den Blütezeiten der Epochen\, stürmen übereinander in griechischer Antike\, in Renaissance\, Aufklärung und den künstlerisch turbulenten Jahrzehnten zu Beginn des Zwanzigsten Jahrhunderts. \n  \nIm philosophischen Café erzählt Philosoph und Autor Peter Vollbrecht von Themen\, die die Denker:innen seit der Antike\nbeschäftigen\, erklärt aktuelle gesellschaftspolitische Debatten und regt die Teilnehmer:innen dazu an\, ihre eigenen Gedanken in Worte zu fassen. \n\n\n\nPreis:\nEintritt 8€\, kostenfrei für Kulturpassinhaber:innen\n\n\nHinweis:\nohne Anmeldung
URL:https://wandelstadt-esslingen.de/event/das-philosophische-cafe-geopolitische-raeume-und-epochenzeiten/
LOCATION:Stadtbücherei | Café\, Heugasse 9\, Esslingen\, 73728
END:VEVENT
END:VCALENDAR