BEGIN:VCALENDAR
VERSION:2.0
PRODID:-//Wandelstadt Esslingen - ECPv6.15.20//NONSGML v1.0//EN
CALSCALE:GREGORIAN
METHOD:PUBLISH
X-WR-CALNAME:Wandelstadt Esslingen
X-ORIGINAL-URL:https://wandelstadt-esslingen.de
X-WR-CALDESC:Veranstaltungen für Wandelstadt Esslingen
REFRESH-INTERVAL;VALUE=DURATION:PT1H
X-Robots-Tag:noindex
X-PUBLISHED-TTL:PT1H
BEGIN:VTIMEZONE
TZID:Europe/Berlin
BEGIN:DAYLIGHT
TZOFFSETFROM:+0100
TZOFFSETTO:+0200
TZNAME:CEST
DTSTART:20240331T010000
END:DAYLIGHT
BEGIN:STANDARD
TZOFFSETFROM:+0200
TZOFFSETTO:+0100
TZNAME:CET
DTSTART:20241027T010000
END:STANDARD
BEGIN:DAYLIGHT
TZOFFSETFROM:+0100
TZOFFSETTO:+0200
TZNAME:CEST
DTSTART:20250330T010000
END:DAYLIGHT
BEGIN:STANDARD
TZOFFSETFROM:+0200
TZOFFSETTO:+0100
TZNAME:CET
DTSTART:20251026T010000
END:STANDARD
BEGIN:DAYLIGHT
TZOFFSETFROM:+0100
TZOFFSETTO:+0200
TZNAME:CEST
DTSTART:20260329T010000
END:DAYLIGHT
BEGIN:STANDARD
TZOFFSETFROM:+0200
TZOFFSETTO:+0100
TZNAME:CET
DTSTART:20261025T010000
END:STANDARD
END:VTIMEZONE
BEGIN:VEVENT
DTSTART;TZID=Europe/Berlin:20250417T180000
DTEND;TZID=Europe/Berlin:20250417T190000
DTSTAMP:20260421T231105
CREATED:20250412T071731Z
LAST-MODIFIED:20250412T071731Z
UID:4645-1744912800-1744916400@wandelstadt-esslingen.de
SUMMARY:Critical Mass Esslingen im April schon am Gründonnerstag
DESCRIPTION:Normalerweise jeden 3. Freitag im Monat\, aber im April schon am Gründonnerstag treffen sich nette Leute zum gemeinsamen Cruisen durch Esslingen\, in der Tradition der weltweiten Critical Mass-Bewegung.\nBei der Genusstour mit Musik tanzen wir auf unseren Fahrrädern ins Osterwochenende.\nNach 10km enden wir an der Bar des Jugendhaus Komma. Diesmal legt voraussichtlich DJ Jan auf und die freie Fahrradwerkstatt der Kuhlen Wampe öffnet ihre Tore.
URL:https://wandelstadt-esslingen.de/event/critical-mass-esslingen-im-april-schon-am-gruendonnerstag/
LOCATION:Bahnhofsvorplatz\, Esslingen
CATEGORIES:Beteiligung,Demonstration,Gemütliches Treffen,Kulturveranstaltung,Vernetzungsveranstaltung
ATTACH;FMTTYPE=image/jpeg:https://wandelstadt-esslingen.de/wp-content/uploads/2025/04/cm-04-25.jpg
END:VEVENT
END:VCALENDAR