BEGIN:VCALENDAR
VERSION:2.0
PRODID:-//Wandelstadt Esslingen - ECPv6.15.20//NONSGML v1.0//EN
CALSCALE:GREGORIAN
METHOD:PUBLISH
X-WR-CALNAME:Wandelstadt Esslingen
X-ORIGINAL-URL:https://wandelstadt-esslingen.de
X-WR-CALDESC:Veranstaltungen für Wandelstadt Esslingen
REFRESH-INTERVAL;VALUE=DURATION:PT1H
X-Robots-Tag:noindex
X-PUBLISHED-TTL:PT1H
BEGIN:VTIMEZONE
TZID:Europe/Berlin
BEGIN:DAYLIGHT
TZOFFSETFROM:+0100
TZOFFSETTO:+0200
TZNAME:CEST
DTSTART:20240331T010000
END:DAYLIGHT
BEGIN:STANDARD
TZOFFSETFROM:+0200
TZOFFSETTO:+0100
TZNAME:CET
DTSTART:20241027T010000
END:STANDARD
BEGIN:DAYLIGHT
TZOFFSETFROM:+0100
TZOFFSETTO:+0200
TZNAME:CEST
DTSTART:20250330T010000
END:DAYLIGHT
BEGIN:STANDARD
TZOFFSETFROM:+0200
TZOFFSETTO:+0100
TZNAME:CET
DTSTART:20251026T010000
END:STANDARD
BEGIN:DAYLIGHT
TZOFFSETFROM:+0100
TZOFFSETTO:+0200
TZNAME:CEST
DTSTART:20260329T010000
END:DAYLIGHT
BEGIN:STANDARD
TZOFFSETFROM:+0200
TZOFFSETTO:+0100
TZNAME:CET
DTSTART:20261025T010000
END:STANDARD
END:VTIMEZONE
BEGIN:VEVENT
DTSTART;TZID=Europe/Berlin:20250417T180000
DTEND;TZID=Europe/Berlin:20250417T200000
DTSTAMP:20260421T200832
CREATED:20250407T130429Z
LAST-MODIFIED:20250407T154432Z
UID:4617-1744912800-1744920000@wandelstadt-esslingen.de
SUMMARY:Critical Mass
DESCRIPTION:Der Critical-Mass-Freitag ist Gründonnerstag! \n  \nJeden 3. Freitag im Monat treffen sich nette Leute zum gemeinsamen Cruisen durch Esslingen\, in der Tradition der weltweiten Critical Mass-Bewegung. Das machen wir seit rund 8 Jahren so\, aber diesmal ist alles anders: der Freitag ist Gründonnerstag\, also der 17. April!\nBei unserer Genusstour mit Musik tanzen wir auf unseren Fahrrädern ins Osterwochenende.\nNach 8 bis maximal 15 km enden wir im Jugendhaus Komma\, diesmal ist auch ein Blick in die Fahrradselbsthilfewerkstatt möglich. Beim Gespräch an der KOMMA-Bar könnt ihr erfahren\, wie jede(r) zur Verbesserung der Esslinger Fuß- und Radinfrastruktur beitragen kann oder ihr könnt einfach neue Leute kennenlernen und Spaß zu haben. \nStart 18 Uhr am Bahnhofsvorplatz.
URL:https://wandelstadt-esslingen.de/event/critical-mass-4/
LOCATION:Bahnhofsvorplatz\, Esslingen
END:VEVENT
END:VCALENDAR