BEGIN:VCALENDAR
VERSION:2.0
PRODID:-//Wandelstadt Esslingen - ECPv6.15.20//NONSGML v1.0//EN
CALSCALE:GREGORIAN
METHOD:PUBLISH
X-WR-CALNAME:Wandelstadt Esslingen
X-ORIGINAL-URL:https://wandelstadt-esslingen.de
X-WR-CALDESC:Veranstaltungen für Wandelstadt Esslingen
REFRESH-INTERVAL;VALUE=DURATION:PT1H
X-Robots-Tag:noindex
X-PUBLISHED-TTL:PT1H
BEGIN:VTIMEZONE
TZID:Europe/Berlin
BEGIN:DAYLIGHT
TZOFFSETFROM:+0100
TZOFFSETTO:+0200
TZNAME:CEST
DTSTART:20240331T010000
END:DAYLIGHT
BEGIN:STANDARD
TZOFFSETFROM:+0200
TZOFFSETTO:+0100
TZNAME:CET
DTSTART:20241027T010000
END:STANDARD
BEGIN:DAYLIGHT
TZOFFSETFROM:+0100
TZOFFSETTO:+0200
TZNAME:CEST
DTSTART:20250330T010000
END:DAYLIGHT
BEGIN:STANDARD
TZOFFSETFROM:+0200
TZOFFSETTO:+0100
TZNAME:CET
DTSTART:20251026T010000
END:STANDARD
BEGIN:DAYLIGHT
TZOFFSETFROM:+0100
TZOFFSETTO:+0200
TZNAME:CEST
DTSTART:20260329T010000
END:DAYLIGHT
BEGIN:STANDARD
TZOFFSETFROM:+0200
TZOFFSETTO:+0100
TZNAME:CET
DTSTART:20261025T010000
END:STANDARD
END:VTIMEZONE
BEGIN:VEVENT
DTSTART;TZID=Europe/Berlin:20250709T153000
DTEND;TZID=Europe/Berlin:20250709T170000
DTSTAMP:20260422T034847
CREATED:20250419T054431Z
LAST-MODIFIED:20250525T191720Z
UID:4682-1752075000-1752080400@wandelstadt-esslingen.de
SUMMARY:Chor OMAS GEGEN RECHTS Esslingen
DESCRIPTION:Der Chor von OMAS GEGEN RECHTS Esslingen trifft sich jeden 2. Mittwoch im KOMMA\, Maille 5-9\, 73728 Esslingen (Hintereingang durch den Hof und die Metalltreppe hinauf) \nUnterstützt durch Percussion-Instrumente werden Lieder eingeübt\, die bei Demos oder bei Aktionen als Earcatcher vorgetragen werden.\nDer Chor freut sich über neue – auch ungeübte -Sänger*innen. Notenlesen nicht erforderlich. \nEin Beispiel zum Anhören\nKeine*r wählt hier rechts: https://www.youtube.com/watch?v=n_KnMoZ2S1k \n 
URL:https://wandelstadt-esslingen.de/event/chor-omas-gegen-rechts-esslingen-6/
LOCATION:KOMMA\, Maille 5-9\, Esslingen\, Deutschland
ORGANIZER;CN="OMAS GEGEN RECHTS Esslingen":MAILTO:ogr-esslingen@posteo.de
END:VEVENT
END:VCALENDAR