BEGIN:VCALENDAR
VERSION:2.0
PRODID:-//Wandelstadt Esslingen - ECPv6.15.20//NONSGML v1.0//EN
CALSCALE:GREGORIAN
METHOD:PUBLISH
X-WR-CALNAME:Wandelstadt Esslingen
X-ORIGINAL-URL:https://wandelstadt-esslingen.de
X-WR-CALDESC:Veranstaltungen für Wandelstadt Esslingen
REFRESH-INTERVAL;VALUE=DURATION:PT1H
X-Robots-Tag:noindex
X-PUBLISHED-TTL:PT1H
BEGIN:VTIMEZONE
TZID:Europe/Berlin
BEGIN:DAYLIGHT
TZOFFSETFROM:+0100
TZOFFSETTO:+0200
TZNAME:CEST
DTSTART:20240331T010000
END:DAYLIGHT
BEGIN:STANDARD
TZOFFSETFROM:+0200
TZOFFSETTO:+0100
TZNAME:CET
DTSTART:20241027T010000
END:STANDARD
BEGIN:DAYLIGHT
TZOFFSETFROM:+0100
TZOFFSETTO:+0200
TZNAME:CEST
DTSTART:20250330T010000
END:DAYLIGHT
BEGIN:STANDARD
TZOFFSETFROM:+0200
TZOFFSETTO:+0100
TZNAME:CET
DTSTART:20251026T010000
END:STANDARD
BEGIN:DAYLIGHT
TZOFFSETFROM:+0100
TZOFFSETTO:+0200
TZNAME:CEST
DTSTART:20260329T010000
END:DAYLIGHT
BEGIN:STANDARD
TZOFFSETFROM:+0200
TZOFFSETTO:+0100
TZNAME:CET
DTSTART:20261025T010000
END:STANDARD
END:VTIMEZONE
BEGIN:VEVENT
DTSTART;TZID=Europe/Berlin:20250918T173000
DTEND;TZID=Europe/Berlin:20250918T200000
DTSTAMP:20260422T013044
CREATED:20250822T083815Z
LAST-MODIFIED:20250822T083815Z
UID:6127-1758216600-1758225600@wandelstadt-esslingen.de
SUMMARY:Caring Infrastructure – wie kann sich Kunst kümmern
DESCRIPTION:Lesung Panel mit Sascia Bailer \nIn ihrem Buch beschäftigt sich Saskia Bailer mit der Thematik der Fürsorge im Kunst- und Kulturbetrieb- und stellt hierbei fest\, dass fürsorgliche Strukturen wenig etabliert bis gar nicht vorhanden sind. Dafür liefert sie praktische Vorschläge\, um fairere Arbeitsbedingungen\, Geschlechtergerechtigkeit und Unterstützungsstrukturen einzuführen.
URL:https://wandelstadt-esslingen.de/event/caring-infrastructure-wie-kann-sich-kunst-kuemmern/
LOCATION:Villa Merkel\, Pulverwiesen 25\, Esslingen\, 73726\, Deutschland
CATEGORIES:Kulturveranstaltung,Live-Veranstaltung
END:VEVENT
END:VCALENDAR