BEGIN:VCALENDAR
VERSION:2.0
PRODID:-//Wandelstadt Esslingen - ECPv6.15.20//NONSGML v1.0//EN
CALSCALE:GREGORIAN
METHOD:PUBLISH
X-WR-CALNAME:Wandelstadt Esslingen
X-ORIGINAL-URL:https://wandelstadt-esslingen.de
X-WR-CALDESC:Veranstaltungen für Wandelstadt Esslingen
REFRESH-INTERVAL;VALUE=DURATION:PT1H
X-Robots-Tag:noindex
X-PUBLISHED-TTL:PT1H
BEGIN:VTIMEZONE
TZID:Europe/Berlin
BEGIN:DAYLIGHT
TZOFFSETFROM:+0100
TZOFFSETTO:+0200
TZNAME:CEST
DTSTART:20230326T010000
END:DAYLIGHT
BEGIN:STANDARD
TZOFFSETFROM:+0200
TZOFFSETTO:+0100
TZNAME:CET
DTSTART:20231029T010000
END:STANDARD
BEGIN:DAYLIGHT
TZOFFSETFROM:+0100
TZOFFSETTO:+0200
TZNAME:CEST
DTSTART:20240331T010000
END:DAYLIGHT
BEGIN:STANDARD
TZOFFSETFROM:+0200
TZOFFSETTO:+0100
TZNAME:CET
DTSTART:20241027T010000
END:STANDARD
BEGIN:DAYLIGHT
TZOFFSETFROM:+0100
TZOFFSETTO:+0200
TZNAME:CEST
DTSTART:20250330T010000
END:DAYLIGHT
BEGIN:STANDARD
TZOFFSETFROM:+0200
TZOFFSETTO:+0100
TZNAME:CET
DTSTART:20251026T010000
END:STANDARD
END:VTIMEZONE
BEGIN:VEVENT
DTSTART;TZID=Europe/Berlin:20240227T180000
DTEND;TZID=Europe/Berlin:20240227T193000
DTSTAMP:20260422T010744
CREATED:20240123T112624Z
LAST-MODIFIED:20240123T112624Z
UID:2496-1709056800-1709062200@wandelstadt-esslingen.de
SUMMARY:Bundesförderung für effiziente Gebäude (BEG) in 2024
DESCRIPTION:Die Veranstaltung ist eine Kooperation der Verbraucherzentrale BW und der rea BW (Verband der regionalen Energie- und Klimaschutzagenturen Baden-Württemberg) sowie ihrem Netzwerk aus den regionalen Energie- und Klimaschutzagenturen vor Ort. \nMit dem Beschluss des neuen Gebäudeenergiegesetzes (GEG) kommen auf viele bereits ab dem 1. Januar 2024 neue Geltungsanforderungen zu. Im Fokus steht dabei klar das Heizen mit und durch erneuerbare Energien. \nUm das Gesetz umzusetzen und die Bürger zu entlasten\, gibt es verschiedene Förderprogramme mit denen die Umstellung speziell bei dem Heizen mit erneuerbaren Energien erleichtert werden soll. \nIm Online-Vortrag mit Anselm Laube\, Gebäude-Energieberater und Geschäftsführer der Energieagentur Kreis Ludwigsburg LEA e.V.\, werden Ihnen die neuen Förderprogramme vorgestellt und wie Sie diese anwenden können. \nDabei werden mit den Förderprogramm zusammenhängende Fragen erläutert wie: \n• Was kommt auf Sie und Ihr Gebäude zu? \n• Welche Voraussetzungen gilt es zu beachten? \n• Sind Förderprogramme kombinierbar? \nBringen Sie sehr gerne zum Online-Vortrag Ihre eigenen Fragen mit. Wir freuen uns auf Sie! \nMelden Sie sich über das Anmeldeformular zum Online-Seminar an und nehmen Sie bequem von zuhause aus teil. Die Teilnahme ist kostenlos. \nHinweis: Sofern Sie im Online-Seminar anonym bleiben wollen\, können Sie sich mit E-Mail-Adresse und einem Nickname\, bzw. Pseudonym anmelden. Der Name\, den Sie bei der Anmeldung eingeben\, wird während des Online-Seminars nur den Moderator:innen angezeigt.
URL:https://wandelstadt-esslingen.de/event/bundesfoerderung-fuer-effiziente-gebaeude-beg-in-2024/
CATEGORIES:Infoveranstaltung
ATTACH;FMTTYPE=image/png:https://wandelstadt-esslingen.de/wp-content/uploads/2024/01/verbraucherzentrale_klimaschutzagentur.png
ORGANIZER;CN="Klimaschutzagentur des Landkreises Esslingen gGmbH":MAILTO:info@ksa-es.de
END:VEVENT
END:VCALENDAR