BEGIN:VCALENDAR
VERSION:2.0
PRODID:-//Wandelstadt Esslingen - ECPv6.15.20//NONSGML v1.0//EN
CALSCALE:GREGORIAN
METHOD:PUBLISH
X-WR-CALNAME:Wandelstadt Esslingen
X-ORIGINAL-URL:https://wandelstadt-esslingen.de
X-WR-CALDESC:Veranstaltungen für Wandelstadt Esslingen
REFRESH-INTERVAL;VALUE=DURATION:PT1H
X-Robots-Tag:noindex
X-PUBLISHED-TTL:PT1H
BEGIN:VTIMEZONE
TZID:Europe/Berlin
BEGIN:DAYLIGHT
TZOFFSETFROM:+0100
TZOFFSETTO:+0200
TZNAME:CEST
DTSTART:20240331T010000
END:DAYLIGHT
BEGIN:STANDARD
TZOFFSETFROM:+0200
TZOFFSETTO:+0100
TZNAME:CET
DTSTART:20241027T010000
END:STANDARD
BEGIN:DAYLIGHT
TZOFFSETFROM:+0100
TZOFFSETTO:+0200
TZNAME:CEST
DTSTART:20250330T010000
END:DAYLIGHT
BEGIN:STANDARD
TZOFFSETFROM:+0200
TZOFFSETTO:+0100
TZNAME:CET
DTSTART:20251026T010000
END:STANDARD
BEGIN:DAYLIGHT
TZOFFSETFROM:+0100
TZOFFSETTO:+0200
TZNAME:CEST
DTSTART:20260329T010000
END:DAYLIGHT
BEGIN:STANDARD
TZOFFSETFROM:+0200
TZOFFSETTO:+0100
TZNAME:CET
DTSTART:20261025T010000
END:STANDARD
END:VTIMEZONE
BEGIN:VEVENT
DTSTART;TZID=Europe/Berlin:20251129T200000
DTEND;TZID=Europe/Berlin:20251129T230000
DTSTAMP:20260421T234657
CREATED:20251027T163042Z
LAST-MODIFIED:20251027T163042Z
UID:6922-1764446400-1764457200@wandelstadt-esslingen.de
SUMMARY:Brücken - Gesharim Comic- und Live-Zeichnungskonzert mit Itay Dvori und Nicole Schneider
DESCRIPTION:Der Pianist Itay Dvori und die Zeichnerin Nicole Schneider gestalten ein Konzert\, das während der Aufführung frei improvisiert wird: Itay Dvori am Flügel und Nicole Schneider mit digitaler Live-Zeichnung\, die via Beamer übertragen wird. Zum Jubiläum „60 Jahre Deutsch-Israelische Freundschaft“ bringen Dvori und Schneider unterschiedliche Facetten beider Länder zusammen durch Volkslieder und Erzählungen wie ihre Hommage an den Botaniker und Wüstenökologen Michael Evenari. \nDarüber hinaus wird Itay Dvori Auszüge aus seinem innovativen Comic-Konzert präsentieren – ein Bühnenformat\, das ebenso Klang und Bild zusammenschmelzen lässt – mit grafischer Literatur aus und über Israel. \nKOSTEN:\n20 € VVK | 23 € Abendkasse\n3 € ermäßigt
URL:https://wandelstadt-esslingen.de/event/bruecken-gesharim-comic-und-live-zeichnungskonzert-mit-itay-dvori-und-nicole-schneider/
LOCATION:Kulturzentrum Dieselstraße\, Dieselstraße 26\, Esslingen\, Deutschland
CATEGORIES:Kulturveranstaltung,Live-Veranstaltung
ORGANIZER;CN="Kulturzentrum Dieselstra%C3%9Fe":MAILTO:info@dieselstrasse.de
END:VEVENT
END:VCALENDAR