BEGIN:VCALENDAR
VERSION:2.0
PRODID:-//Wandelstadt Esslingen - ECPv6.15.20//NONSGML v1.0//EN
CALSCALE:GREGORIAN
METHOD:PUBLISH
X-WR-CALNAME:Wandelstadt Esslingen
X-ORIGINAL-URL:https://wandelstadt-esslingen.de
X-WR-CALDESC:Veranstaltungen für Wandelstadt Esslingen
REFRESH-INTERVAL;VALUE=DURATION:PT1H
X-Robots-Tag:noindex
X-PUBLISHED-TTL:PT1H
BEGIN:VTIMEZONE
TZID:Europe/Berlin
BEGIN:DAYLIGHT
TZOFFSETFROM:+0100
TZOFFSETTO:+0200
TZNAME:CEST
DTSTART:20250330T010000
END:DAYLIGHT
BEGIN:STANDARD
TZOFFSETFROM:+0200
TZOFFSETTO:+0100
TZNAME:CET
DTSTART:20251026T010000
END:STANDARD
BEGIN:DAYLIGHT
TZOFFSETFROM:+0100
TZOFFSETTO:+0200
TZNAME:CEST
DTSTART:20260329T010000
END:DAYLIGHT
BEGIN:STANDARD
TZOFFSETFROM:+0200
TZOFFSETTO:+0100
TZNAME:CET
DTSTART:20261025T010000
END:STANDARD
BEGIN:DAYLIGHT
TZOFFSETFROM:+0100
TZOFFSETTO:+0200
TZNAME:CEST
DTSTART:20270328T010000
END:DAYLIGHT
BEGIN:STANDARD
TZOFFSETFROM:+0200
TZOFFSETTO:+0100
TZNAME:CET
DTSTART:20271031T010000
END:STANDARD
END:VTIMEZONE
BEGIN:VEVENT
DTSTART;TZID=Europe/Berlin:20260320T100000
DTEND;TZID=Europe/Berlin:20260320T120000
DTSTAMP:20260421T171755
CREATED:20260218T152820Z
LAST-MODIFIED:20260218T152820Z
UID:8186-1774000800-1774008000@wandelstadt-esslingen.de
SUMMARY:Bildung für Verbundenheit und Wandel - Impulse aus dem DEFY-Projekt für die Bildungspraxis
DESCRIPTION:In der Bildungsarbeit begegnen uns immer häufiger Themen\, die Unbehagen auslösen\, verunsichern oder sprachlos machen: globale Ungleichheit\, Gewalt\, Klimakrise\, Kolonialität oder strukturelle Diskriminierung. Oft stehen diese Themen als „Elefanten im Raum“ unausgesprochen zwischen uns und den jungen Menschen\, mit denen wir arbeiten. \nDer Online-Workshop richtet sich an Menschen aus der Bildungspraxis sowie an Fachkräfte\, die mit jungen Menschen arbeiten. Er lädt dazu ein\, sich gemeinsam mit herausfordernden Themen und emotionalem Unbehagen auseinanderzusetzen und dabei Verbundenheit\, Beziehung und Lernräume für Wandel in den Blick zu nehmen. \nDas DEFY-Projekt hat in den letzten drei Jahren gezielt Räume für Bildungspraktiker*innen geschaffen\, die in oder im Umfeld von Globalem Lernen und Global Citizenship tätig sind. Im Mittelpunkt stand die Frage\, wie eine bewusste Auseinandersetzung mit schwierigem Wissen (difficult knowledge)\, also mit Themen wie Gewalt\, Ungleichheit\, Genozid oder ökologischer Zerstörung\, die eigene Praxis vertiefen und die Fähigkeit stärken kann\, Lernräume zu halten. \nAus diesen Erfahrungen sind drei Publikationen entstanden: zwei „Zines“ mit den persönlichen Reflexionen aus dem Projekt sowie ein neu entwickeltes Handbuch für Bildungspraktiker*innen. Diese Publikationen stehen im Zentrum des Workshops und werden vorgestellt und gemeinsam reflektiert. Der Workshop bietet einen Raum für Austausch und gemeinsames Lernen. \nDer Online-Workshop findet am Freitag\, 20. März von 10:00 bis 12:00 Uhr über Zoom statt.
URL:https://wandelstadt-esslingen.de/event/bildung-fuer-verbundenheit-und-wandel-impulse-aus-dem-defy-projekt-fuer-die-bildungspraxis/
LOCATION:online
CATEGORIES:Infoveranstaltung,Live-Veranstaltung,Workshop
ORGANIZER;CN="forum f%C3%BCr internationale entwicklung und planung (finep)":MAILTO:info@finep.org
END:VEVENT
END:VCALENDAR