BEGIN:VCALENDAR
VERSION:2.0
PRODID:-//Wandelstadt Esslingen - ECPv6.15.20//NONSGML v1.0//EN
CALSCALE:GREGORIAN
METHOD:PUBLISH
X-WR-CALNAME:Wandelstadt Esslingen
X-ORIGINAL-URL:https://wandelstadt-esslingen.de
X-WR-CALDESC:Veranstaltungen für Wandelstadt Esslingen
REFRESH-INTERVAL;VALUE=DURATION:PT1H
X-Robots-Tag:noindex
X-PUBLISHED-TTL:PT1H
BEGIN:VTIMEZONE
TZID:Europe/Berlin
BEGIN:DAYLIGHT
TZOFFSETFROM:+0100
TZOFFSETTO:+0200
TZNAME:CEST
DTSTART:20220327T010000
END:DAYLIGHT
BEGIN:STANDARD
TZOFFSETFROM:+0200
TZOFFSETTO:+0100
TZNAME:CET
DTSTART:20221030T010000
END:STANDARD
BEGIN:DAYLIGHT
TZOFFSETFROM:+0100
TZOFFSETTO:+0200
TZNAME:CEST
DTSTART:20230326T010000
END:DAYLIGHT
BEGIN:STANDARD
TZOFFSETFROM:+0200
TZOFFSETTO:+0100
TZNAME:CET
DTSTART:20231029T010000
END:STANDARD
BEGIN:DAYLIGHT
TZOFFSETFROM:+0100
TZOFFSETTO:+0200
TZNAME:CEST
DTSTART:20240331T010000
END:DAYLIGHT
BEGIN:STANDARD
TZOFFSETFROM:+0200
TZOFFSETTO:+0100
TZNAME:CET
DTSTART:20241027T010000
END:STANDARD
END:VTIMEZONE
BEGIN:VEVENT
DTSTART;TZID=Europe/Berlin:20230910T130000
DTEND;TZID=Europe/Berlin:20230910T170000
DTSTAMP:20260421T181535
CREATED:20230804T040905Z
LAST-MODIFIED:20230804T041056Z
UID:2008-1694350800-1694365200@wandelstadt-esslingen.de
SUMMARY:Bibliothek der Zukunft
DESCRIPTION:Am Sonntag\, 10. September\, findet der Tag des offenen Denkmals statt. Aus Anlass seines zehnjährigen Bestehens wagt der Förderverein einen Blick in die BIBLIOTHEK DER ZUKUNFT. In unserer Stadtbücherei im Bebenhäuser Pfleghof präsentieren wir von 13-17 Uhr ganz viele und attraktive Sachen: VR-Brille\, 3D-Drucker\, Indoor-Drohne\, Bibliothek der Dinge\, Vorlesezelt\, eine fröhliche Fotoecke\, eine Mitmach-Nähmaschine u.v.a. mehr. Außerdem wird das Reparatur-Café vertreten sein. Alle Infos sind dem beigefügten Flyer zu entnehmen\, den ein Neumitglied des Fördervereins für uns mit viel Liebe zum Detail gestaltet hat. Dafür gilt unser herzlicher Dank! \n  \nFür diese Bibliothek der Zukunft braucht unsere Stadtbücherei mehr Platz. Dafür wurde von der Stadt vor Jahren das Nachbargebäude\, die Heugasse 11\, gekauft. Leider hat der Gemeinderat immer noch nicht entschieden\, dass dieses Gebäude möglichst bald für die Erweiterung der Stadtbücherei hergerichtet werden soll. Damit sich alle Interessierten ein Bild vom aktuellen Zustand machen können\, gibt es am Denkmaltag von 12-17 Uhr stündlich Führungen durch das Haus. \n  \nKommen Sie am 10. September selbst in den Bebenhäuser Pfleghof und nehmen Sie an einer Führung durch die Heugasse 11 teil. Zeigen Sie Ihr Interesse an einer zukunftsfähigen Stadtbücherei Esslingen.
URL:https://wandelstadt-esslingen.de/event/bibliothek-der-zukunft/
LOCATION:Stadtbibliothek\, Heugasse 9\, Esslingen\, Deutschland
ATTACH;FMTTYPE=image/png:https://wandelstadt-esslingen.de/wp-content/uploads/2023/08/Flyer_U1.png
END:VEVENT
END:VCALENDAR